BEGIN:VCALENDAR
VERSION:2.0
PRODID:-//The Village - ECPv6.15.20//NONSGML v1.0//EN
CALSCALE:GREGORIAN
METHOD:PUBLISH
X-ORIGINAL-URL:https://thevillagehamburg.de
X-WR-CALDESC:Veranstaltungen für The Village
REFRESH-INTERVAL;VALUE=DURATION:PT1H
X-Robots-Tag:noindex
X-PUBLISHED-TTL:PT1H
BEGIN:VTIMEZONE
TZID:Europe/Berlin
BEGIN:DAYLIGHT
TZOFFSETFROM:+0100
TZOFFSETTO:+0200
TZNAME:CEST
DTSTART:20230326T010000
END:DAYLIGHT
BEGIN:STANDARD
TZOFFSETFROM:+0200
TZOFFSETTO:+0100
TZNAME:CET
DTSTART:20231029T010000
END:STANDARD
BEGIN:DAYLIGHT
TZOFFSETFROM:+0100
TZOFFSETTO:+0200
TZNAME:CEST
DTSTART:20240331T010000
END:DAYLIGHT
BEGIN:STANDARD
TZOFFSETFROM:+0200
TZOFFSETTO:+0100
TZNAME:CET
DTSTART:20241027T010000
END:STANDARD
BEGIN:DAYLIGHT
TZOFFSETFROM:+0100
TZOFFSETTO:+0200
TZNAME:CEST
DTSTART:20250330T010000
END:DAYLIGHT
BEGIN:STANDARD
TZOFFSETFROM:+0200
TZOFFSETTO:+0100
TZNAME:CET
DTSTART:20251026T010000
END:STANDARD
END:VTIMEZONE
BEGIN:VEVENT
DTSTART;TZID=Europe/Berlin:20240802T210000
DTEND;TZID=Europe/Berlin:20240802T230000
DTSTAMP:20260423T125659
CREATED:20240717T112007Z
LAST-MODIFIED:20240717T112216Z
UID:10002147-1722632400-1722639600@thevillagehamburg.de
SUMMARY:Open Air Kino
DESCRIPTION:Bei selbstgemachtem Popcorn\, Nachos mit Jalapenos- Käse Soße und schöner Stimmung\, wollen wir auch diesen Sommer Open Air Kino mit euch machen.  \nWir suchen kleine Filmperlen aus\, machen es kuschelig draußen und ihr könnt mit netten Menschen und mit kurzem Heimweg ein bisschen Kino Flair schnuppern.  \nEintritt ist frei…
URL:https://thevillagehamburg.de/event/open-air-kino/2024-08-02/
LOCATION:The Village\, Tibarg 21\, Hamburg\, 22459\, Germany
CATEGORIES:Kino
ATTACH;FMTTYPE=image/jpeg:https://thevillagehamburg.de/wp-content/uploads/2024/07/Bunt-verspielt-Hallo-Mai-Grus-Instagram-Post3.jpg
ORGANIZER;CN="The Village":MAILTO:info@thevillagehamburg.de
END:VEVENT
END:VCALENDAR