BEGIN:VCALENDAR
VERSION:2.0
PRODID:-//The Village - ECPv6.15.15//NONSGML v1.0//EN
CALSCALE:GREGORIAN
METHOD:PUBLISH
X-ORIGINAL-URL:https://thevillagehamburg.de
X-WR-CALDESC:Veranstaltungen für The Village
REFRESH-INTERVAL;VALUE=DURATION:PT1H
X-Robots-Tag:noindex
X-PUBLISHED-TTL:PT1H
BEGIN:VTIMEZONE
TZID:Europe/Berlin
BEGIN:DAYLIGHT
TZOFFSETFROM:+0100
TZOFFSETTO:+0200
TZNAME:CEST
DTSTART:20230326T010000
END:DAYLIGHT
BEGIN:STANDARD
TZOFFSETFROM:+0200
TZOFFSETTO:+0100
TZNAME:CET
DTSTART:20231029T010000
END:STANDARD
BEGIN:DAYLIGHT
TZOFFSETFROM:+0100
TZOFFSETTO:+0200
TZNAME:CEST
DTSTART:20240331T010000
END:DAYLIGHT
BEGIN:STANDARD
TZOFFSETFROM:+0200
TZOFFSETTO:+0100
TZNAME:CET
DTSTART:20241027T010000
END:STANDARD
BEGIN:DAYLIGHT
TZOFFSETFROM:+0100
TZOFFSETTO:+0200
TZNAME:CEST
DTSTART:20250330T010000
END:DAYLIGHT
BEGIN:STANDARD
TZOFFSETFROM:+0200
TZOFFSETTO:+0100
TZNAME:CET
DTSTART:20251026T010000
END:STANDARD
END:VTIMEZONE
BEGIN:VEVENT
DTSTART;TZID=Europe/Berlin:20240803T110000
DTEND;TZID=Europe/Berlin:20240803T233000
DTSTAMP:20260421T222917
CREATED:20240717T113435Z
LAST-MODIFIED:20240717T114107Z
UID:10002150-1722682800-1722727800@thevillagehamburg.de
SUMMARY:Geschlossene Gesellschaft
DESCRIPTION:Heute gehört das Village einem geschlossenen Kreis.  \nWir freuen uns auf ein ganz baldiges Wiedersehen mit euch
URL:https://thevillagehamburg.de/event/geschlossene-gesellschaft-12/
LOCATION:The Village\, Tibarg 21\, Hamburg\, 22459\, Germany
CATEGORIES:Gastronomie,Geschlossene Gesellschaft
ATTACH;FMTTYPE=image/jpeg:https://thevillagehamburg.de/wp-content/uploads/2024/07/Second-Chances-Ladys-Flohmarkt-Instagram-Beitrag-210-x-210-mm.jpg
ORGANIZER;CN="The Village":MAILTO:info@thevillagehamburg.de
END:VEVENT
END:VCALENDAR