BEGIN:VCALENDAR
VERSION:2.0
PRODID:-//The Village - ECPv6.15.20//NONSGML v1.0//EN
CALSCALE:GREGORIAN
METHOD:PUBLISH
X-ORIGINAL-URL:https://thevillagehamburg.de
X-WR-CALDESC:Veranstaltungen für The Village
REFRESH-INTERVAL;VALUE=DURATION:PT1H
X-Robots-Tag:noindex
X-PUBLISHED-TTL:PT1H
BEGIN:VTIMEZONE
TZID:Europe/Berlin
BEGIN:DAYLIGHT
TZOFFSETFROM:+0100
TZOFFSETTO:+0200
TZNAME:CEST
DTSTART:20230326T010000
END:DAYLIGHT
BEGIN:STANDARD
TZOFFSETFROM:+0200
TZOFFSETTO:+0100
TZNAME:CET
DTSTART:20231029T010000
END:STANDARD
BEGIN:DAYLIGHT
TZOFFSETFROM:+0100
TZOFFSETTO:+0200
TZNAME:CEST
DTSTART:20240331T010000
END:DAYLIGHT
BEGIN:STANDARD
TZOFFSETFROM:+0200
TZOFFSETTO:+0100
TZNAME:CET
DTSTART:20241027T010000
END:STANDARD
BEGIN:DAYLIGHT
TZOFFSETFROM:+0100
TZOFFSETTO:+0200
TZNAME:CEST
DTSTART:20250330T010000
END:DAYLIGHT
BEGIN:STANDARD
TZOFFSETFROM:+0200
TZOFFSETTO:+0100
TZNAME:CET
DTSTART:20251026T010000
END:STANDARD
END:VTIMEZONE
BEGIN:VEVENT
DTSTART;TZID=Europe/Berlin:20240828T160000
DTEND;TZID=Europe/Berlin:20240828T180000
DTSTAMP:20260423T000115
CREATED:20200908T212349Z
LAST-MODIFIED:20231203T174034Z
UID:10001407-1724860800-1724868000@thevillagehamburg.de
SUMMARY:Kunstworkshop für Kinder und Jugendliche | The Village
DESCRIPTION:Mittwochs von 16.00 Uhr bis 18.00 Uhr ist im Village Kunstworkshop für Kinder und Jugendliche angesagt. In dieser Zeit gehört die Galerie den Kindern und Jugendlichen. Es gibt ein festes Thema das wir wöchentlich bearbeiten. \nSchwierigkeitsniveau: für alle ErfahrungslevelsMaterialien: Malmaterialien vorhanden
URL:https://thevillagehamburg.de/event/kunstworkshop-fur-kinder-und-jugendliche-the-village/2024-08-28/
LOCATION:The Village\, Tibarg 21\, Hamburg\, 22459\, Germany
CATEGORIES:Art
ATTACH;FMTTYPE=image/jpeg:https://thevillagehamburg.de/wp-content/uploads/2022/12/Kunstworkshops-fur-Kinder-Mittwochs-.jpg
END:VEVENT
BEGIN:VEVENT
DTSTART;TZID=Europe/Berlin:20240828T190000
DTEND;TZID=Europe/Berlin:20240828T190000
DTSTAMP:20260423T000115
CREATED:20240827T073915Z
LAST-MODIFIED:20240827T074025Z
UID:10002164-1724871600-1724871600@thevillagehamburg.de
SUMMARY:Ringlesung & Schattenkunst
DESCRIPTION:Ovid Metamorphosen 2024 – Ringlesung & Schattenkunst\nmit Saskia Junggeburth (Text) & Anna-Maria Schlemmer (Schattenkunst)  \nKeine Zeit\, die wir erlebten hat so viel Bereitschaft zur Verwandlung verlangt\, von uns als Gesellschaft\, als Menschheit. Wohin wird im kommenden Jahr die Reise gehen? Gemeinsam wollen wir die großen Veränderungen unserer Welt erleben und uns literarisch begleiten und ermutigen lassen\, vom großen Buch der Verwandlungen: Ovids Metamorphosen!  \nIn 15 Büchern mit je etwa 700 bis 900 Versen beschreibt das Werk – verfasst um das Jahr 1-8 unserer Zeitrechnung – die Geschichte der Welt von ihren Anfängen bis hin zur Gegenwart des Dichters Ovid. Dieses einzigartige Buch der Verwandlungen enthält alles\, was uns noch heute kulturell prägt: Schöpfungsgeschichte\, Heldenmythen und die ständige Transformation des Mensch Seins.  \nÜber das Jahr verteilt laden die Schauspielerin Saskia Junggeburth (BuchBar) und die Schattenkünstlerin Anna-Maria Schlemmer (ANNAFABULI) zum Metamorphosen-Mittwoch ein. Ein roter Faden\, in loser Folge und an unterschiedlichen Orten. Denn die Metamorphose hat ihren eigenen Puls. Zum Text von Ovid werfen wir die Schatten der großen Ereignisse an die Wand\, die vor und hinter uns liegen. Führen Euch in die Welt der Ideen. Lauschen dem Echo der ewig wiederkehrenden Erneuerung.  \nMetamorphose 8 führt uns ins Kunst Cafe „The Village“ in Niendorf. Und hier widmen wir uns thematisch den schönen Künsten: der Dichtung\, der Bildhauerrei und der Kunst des Fliegens… Lesung + Schattenspiel dauern ca. 30 Minuten. Der Eintritt ist auf Spendenbasis. Wir freuen uns wie immer auf alle\, die weiterhin Lust haben mit uns gemeinsam durch das Jahr zu ver-wandeln!
URL:https://thevillagehamburg.de/event/ringlesung-schattenkunst/
LOCATION:The Village\, Tibarg 21\, Hamburg\, 22459\, Germany
CATEGORIES:Art,Vorlesung
ATTACH;FMTTYPE=image/jpeg:https://thevillagehamburg.de/wp-content/uploads/2024/08/Offener-Malabend-Instagram-Post12.jpg
ORGANIZER;CN="The Village":MAILTO:info@thevillagehamburg.de
END:VEVENT
END:VCALENDAR