BEGIN:VCALENDAR
VERSION:2.0
PRODID:-//The Village - ECPv6.15.15//NONSGML v1.0//EN
CALSCALE:GREGORIAN
METHOD:PUBLISH
X-WR-CALNAME:The Village
X-ORIGINAL-URL:https://thevillagehamburg.de
X-WR-CALDESC:Veranstaltungen für The Village
REFRESH-INTERVAL;VALUE=DURATION:PT1H
X-Robots-Tag:noindex
X-PUBLISHED-TTL:PT1H
BEGIN:VTIMEZONE
TZID:Europe/Berlin
BEGIN:DAYLIGHT
TZOFFSETFROM:+0100
TZOFFSETTO:+0200
TZNAME:CEST
DTSTART:20230326T010000
END:DAYLIGHT
BEGIN:STANDARD
TZOFFSETFROM:+0200
TZOFFSETTO:+0100
TZNAME:CET
DTSTART:20231029T010000
END:STANDARD
BEGIN:DAYLIGHT
TZOFFSETFROM:+0100
TZOFFSETTO:+0200
TZNAME:CEST
DTSTART:20240331T010000
END:DAYLIGHT
BEGIN:STANDARD
TZOFFSETFROM:+0200
TZOFFSETTO:+0100
TZNAME:CET
DTSTART:20241027T010000
END:STANDARD
BEGIN:DAYLIGHT
TZOFFSETFROM:+0100
TZOFFSETTO:+0200
TZNAME:CEST
DTSTART:20250330T010000
END:DAYLIGHT
BEGIN:STANDARD
TZOFFSETFROM:+0200
TZOFFSETTO:+0100
TZNAME:CET
DTSTART:20251026T010000
END:STANDARD
END:VTIMEZONE
BEGIN:VEVENT
DTSTART;TZID=Europe/Berlin:20240927T193000
DTEND;TZID=Europe/Berlin:20240927T223000
DTSTAMP:20260422T030556
CREATED:20240822T144833Z
LAST-MODIFIED:20240822T144842Z
UID:10002162-1727465400-1727476200@thevillagehamburg.de
SUMMARY:Dance like somebodys watching
DESCRIPTION:Wir wollen mal testen wie so ne kleine unkomplizierte Tanzstunde im Village wohl aussehen würde. Wir haben einen begabten Tänzer gefunden\, der Lust hat seine Kenne mit uns zu teilen- ungezwungen und mit nem Glässchen Wein tanzen wir zusammen. Erst mit Anleitung und dann natürlich gern das neu gelernte direkt anwenden. Schauen wir doch mal wie das so wird. Wir starten im ersten VErsuch mit California Twostep- ein beschwingter Tanz der Laune macht.
URL:https://thevillagehamburg.de/event/dance-like-somebodys-watching/
LOCATION:The Village\, Tibarg 21\, Hamburg\, 22459\, Germany
CATEGORIES:DJ
ATTACH;FMTTYPE=image/jpeg:https://thevillagehamburg.de/wp-content/uploads/2024/08/Offener-Malabend-Instagram-Post11.jpg
ORGANIZER;CN="The Village":MAILTO:info@thevillagehamburg.de
END:VEVENT
END:VCALENDAR