BEGIN:VCALENDAR
VERSION:2.0
PRODID:-//The Village - ECPv6.15.20//NONSGML v1.0//EN
CALSCALE:GREGORIAN
METHOD:PUBLISH
X-WR-CALNAME:The Village
X-ORIGINAL-URL:https://thevillagehamburg.de
X-WR-CALDESC:Veranstaltungen für The Village
REFRESH-INTERVAL;VALUE=DURATION:PT1H
X-Robots-Tag:noindex
X-PUBLISHED-TTL:PT1H
BEGIN:VTIMEZONE
TZID:Europe/Berlin
BEGIN:DAYLIGHT
TZOFFSETFROM:+0100
TZOFFSETTO:+0200
TZNAME:CEST
DTSTART:20230326T010000
END:DAYLIGHT
BEGIN:STANDARD
TZOFFSETFROM:+0200
TZOFFSETTO:+0100
TZNAME:CET
DTSTART:20231029T010000
END:STANDARD
BEGIN:DAYLIGHT
TZOFFSETFROM:+0100
TZOFFSETTO:+0200
TZNAME:CEST
DTSTART:20240331T010000
END:DAYLIGHT
BEGIN:STANDARD
TZOFFSETFROM:+0200
TZOFFSETTO:+0100
TZNAME:CET
DTSTART:20241027T010000
END:STANDARD
BEGIN:DAYLIGHT
TZOFFSETFROM:+0100
TZOFFSETTO:+0200
TZNAME:CEST
DTSTART:20250330T010000
END:DAYLIGHT
BEGIN:STANDARD
TZOFFSETFROM:+0200
TZOFFSETTO:+0100
TZNAME:CET
DTSTART:20251026T010000
END:STANDARD
END:VTIMEZONE
BEGIN:VEVENT
DTSTART;TZID=Europe/Berlin:20241004T193000
DTEND;TZID=Europe/Berlin:20241004T220000
DTSTAMP:20260423T214638
CREATED:20240515T094640Z
LAST-MODIFIED:20240515T094922Z
UID:10002129-1728070200-1728079200@thevillagehamburg.de
SUMMARY:Vernissage Marieke Mittelbach
DESCRIPTION:Marieke Mittelbach eröffnet ihre Ausstellung\n„Bilder am Wasser“  \n„Geboren an der Nordsee zieht es mich in meinen Bildern wie im Leben immer wieder ans Meer: Weite spüren\, zur Ruhe finden\, den Kopf frei kriegen\, entstehen lassen\, loslassen…“ \nDas wollen wir uns gerne gemeinsam anschauen. Vernissage startet um 19.30 Uhr. Wir freuen uns auf einen Artist Talk mit den Künstler*inn und vielen interessierten Besucher*innen
URL:https://thevillagehamburg.de/event/vernissage-marieke-mittelbach/
LOCATION:The Village\, Tibarg 21\, Hamburg\, 22459\, Germany
CATEGORIES:Art,Vernissage
ATTACH;FMTTYPE=image/jpeg:https://thevillagehamburg.de/wp-content/uploads/2024/05/Marieke-Mittelbach-zeige-Bilder-am-Wasser.jpg
ORGANIZER;CN="The Village":MAILTO:info@thevillagehamburg.de
END:VEVENT
END:VCALENDAR