BEGIN:VCALENDAR
VERSION:2.0
PRODID:-//The Village - ECPv6.15.20//NONSGML v1.0//EN
CALSCALE:GREGORIAN
METHOD:PUBLISH
X-WR-CALNAME:The Village
X-ORIGINAL-URL:https://thevillagehamburg.de
X-WR-CALDESC:Veranstaltungen für The Village
REFRESH-INTERVAL;VALUE=DURATION:PT1H
X-Robots-Tag:noindex
X-PUBLISHED-TTL:PT1H
BEGIN:VTIMEZONE
TZID:Europe/Berlin
BEGIN:DAYLIGHT
TZOFFSETFROM:+0100
TZOFFSETTO:+0200
TZNAME:CEST
DTSTART:20220327T010000
END:DAYLIGHT
BEGIN:STANDARD
TZOFFSETFROM:+0200
TZOFFSETTO:+0100
TZNAME:CET
DTSTART:20221030T010000
END:STANDARD
BEGIN:DAYLIGHT
TZOFFSETFROM:+0100
TZOFFSETTO:+0200
TZNAME:CEST
DTSTART:20230326T010000
END:DAYLIGHT
BEGIN:STANDARD
TZOFFSETFROM:+0200
TZOFFSETTO:+0100
TZNAME:CET
DTSTART:20231029T010000
END:STANDARD
BEGIN:DAYLIGHT
TZOFFSETFROM:+0100
TZOFFSETTO:+0200
TZNAME:CEST
DTSTART:20240331T010000
END:DAYLIGHT
BEGIN:STANDARD
TZOFFSETFROM:+0200
TZOFFSETTO:+0100
TZNAME:CET
DTSTART:20241027T010000
END:STANDARD
END:VTIMEZONE
BEGIN:VEVENT
DTSTART;VALUE=DATE:20230801
DTEND;VALUE=DATE:20230803
DTSTAMP:20260423T125555
CREATED:20200908T173824Z
LAST-MODIFIED:20231203T165900Z
UID:10001560-1690858800-1690945199@thevillagehamburg.de
SUMMARY:Kunstworkshop für Kinder und Jugendliche | The Village
DESCRIPTION:Dienstags 15.00 Uhr bis 17.00 Uhr findet unser offener Kunstworkshop für Kinder und Jugendliche statt. In dieser Zeit gehört die Galerie den Kindern und Jugendlichen. Es gibt ein festes Thema das wir wöchentlich bearbeiten. \nSchwierigkeitsniveau: für alle ErfahrungslevelsMaterialien: Malmaterialien vorhanden
URL:https://thevillagehamburg.de/event/2423/2023-08-01/
LOCATION:The Village\, Tibarg 21\, Hamburg\, 22459\, Germany
CATEGORIES:Art
ATTACH;FMTTYPE=image/jpeg:https://thevillagehamburg.de/wp-content/uploads/2022/12/Kunstworkshops-fur-Kinder-Dienstags-.jpg
END:VEVENT
BEGIN:VEVENT
DTSTART;TZID=Europe/Berlin:20230801T093000
DTEND;TZID=Europe/Berlin:20230801T113000
DTSTAMP:20260423T125555
CREATED:20221216T222318Z
LAST-MODIFIED:20231203T174333Z
UID:10000915-1690882200-1690889400@thevillagehamburg.de
SUMMARY:Kunstkurs für Frauen
DESCRIPTION:
URL:https://thevillagehamburg.de/event/kunstkurs-fur-frauen/2023-08-01/
LOCATION:The Village\, Tibarg 21\, Hamburg\, 22459\, Germany
CATEGORIES:Art,International,Kultur
ATTACH;FMTTYPE=image/jpeg:https://thevillagehamburg.de/wp-content/uploads/2022/12/Kunstkurs-fur-Frauen-.jpg
ORGANIZER;CN="The Village":MAILTO:info@thevillagehamburg.de
END:VEVENT
BEGIN:VEVENT
DTSTART;TZID=Europe/Berlin:20230801T113000
DTEND;TZID=Europe/Berlin:20230801T133000
DTSTAMP:20260423T125555
CREATED:20221216T222608Z
LAST-MODIFIED:20231203T165643Z
UID:10000966-1690889400-1690896600@thevillagehamburg.de
SUMMARY:Kunstkurs für Frauen
DESCRIPTION:
URL:https://thevillagehamburg.de/event/kunstkurs-fur-frauen-2/2023-08-01/
LOCATION:The Village\, Tibarg 21\, Hamburg\, 22459\, Germany
CATEGORIES:Art,Kultur
ATTACH;FMTTYPE=image/jpeg:https://thevillagehamburg.de/wp-content/uploads/2022/12/Kunstkurs-fur-Frauen-Teil-2-.jpg
ORGANIZER;CN="The Village":MAILTO:info@thevillagehamburg.de
END:VEVENT
BEGIN:VEVENT
DTSTART;TZID=Europe/Berlin:20230801T173000
DTEND;TZID=Europe/Berlin:20230801T193000
DTSTAMP:20260423T125555
CREATED:20221216T222755Z
LAST-MODIFIED:20231203T170018Z
UID:10001017-1690911000-1690918200@thevillagehamburg.de
SUMMARY:Kunstkurs für Erwachsene
DESCRIPTION:
URL:https://thevillagehamburg.de/event/kunstkurs-fur-erwachsene/2023-08-01/
LOCATION:The Village\, Tibarg 21\, Hamburg\, 22459\, Germany
CATEGORIES:Art
ATTACH;FMTTYPE=image/jpeg:https://thevillagehamburg.de/wp-content/uploads/2022/12/Kunstkurs-fur-junge-Erwachsene-1.jpg
ORGANIZER;CN="The Village":MAILTO:info@thevillagehamburg.de
END:VEVENT
BEGIN:VEVENT
DTSTART;TZID=Europe/Berlin:20230802T160000
DTEND;TZID=Europe/Berlin:20230802T180000
DTSTAMP:20260423T125555
CREATED:20200908T212349Z
LAST-MODIFIED:20231203T174034Z
UID:10000761-1690992000-1690999200@thevillagehamburg.de
SUMMARY:Kunstworkshop für Kinder und Jugendliche | The Village
DESCRIPTION:Mittwochs von 16.00 Uhr bis 18.00 Uhr ist im Village Kunstworkshop für Kinder und Jugendliche angesagt. In dieser Zeit gehört die Galerie den Kindern und Jugendlichen. Es gibt ein festes Thema das wir wöchentlich bearbeiten. \nSchwierigkeitsniveau: für alle ErfahrungslevelsMaterialien: Malmaterialien vorhanden
URL:https://thevillagehamburg.de/event/kunstworkshop-fur-kinder-und-jugendliche-the-village/2023-08-02/
LOCATION:The Village\, Tibarg 21\, Hamburg\, 22459\, Germany
CATEGORIES:Art
ATTACH;FMTTYPE=image/jpeg:https://thevillagehamburg.de/wp-content/uploads/2022/12/Kunstworkshops-fur-Kinder-Mittwochs-.jpg
END:VEVENT
BEGIN:VEVENT
DTSTART;TZID=Europe/Berlin:20230803T193000
DTEND;TZID=Europe/Berlin:20230804T220000
DTSTAMP:20260423T125555
CREATED:20221216T221033Z
LAST-MODIFIED:20231204T194012Z
UID:10001946-1691091000-1691186400@thevillagehamburg.de
SUMMARY:BINGO!
DESCRIPTION:
URL:https://thevillagehamburg.de/event/bingo/2023-08-03/
LOCATION:The Village\, Tibarg 21\, Hamburg\, 22459\, Germany
CATEGORIES:Games
ATTACH;FMTTYPE=image/jpeg:https://thevillagehamburg.de/wp-content/uploads/2022/12/Bingo-Night-Kalender-.jpg
ORGANIZER;CN="The Village":MAILTO:info@thevillagehamburg.de
END:VEVENT
BEGIN:VEVENT
DTSTART;TZID=Europe/Berlin:20230804T213000
DTEND;TZID=Europe/Berlin:20230804T233000
DTSTAMP:20260423T125555
CREATED:20230620T195216Z
LAST-MODIFIED:20230620T195216Z
UID:10000668-1691184600-1691191800@thevillagehamburg.de
SUMMARY:Open Air Kino
DESCRIPTION:Es gibt selbstgemachtes Popcorn und einen zum Film passenden Drink. \nInsgesamt werden wir an sechs Terminen Filme zeigen\, Französische\, Deutsche\, Amerikanische\, Alte und Neue… aber eines sind sie immer: unterhaltsam und familienfreundlich. \nFilm ab!
URL:https://thevillagehamburg.de/event/open-air-kino-4/
LOCATION:The Village\, Tibarg 21\, Hamburg\, 22459\, Germany
CATEGORIES:Kino,Kultur
ATTACH;FMTTYPE=image/jpeg:https://thevillagehamburg.de/wp-content/uploads/2023/06/Open-Air-Kino-.jpg
ORGANIZER;CN="The Village":MAILTO:info@thevillagehamburg.de
END:VEVENT
BEGIN:VEVENT
DTSTART;VALUE=DATE:20230806
DTEND;VALUE=DATE:20230808
DTSTAMP:20260423T125555
CREATED:20230107T144006Z
LAST-MODIFIED:20231203T172654Z
UID:10001718-1691290800-1691377199@thevillagehamburg.de
SUMMARY:Ruhetag
DESCRIPTION:…auch das Village braucht mal eine Pause\, und an diesem Termin haben wir geschlossen.\nWir heißen dich gerne und herzlich zum nächsten offenen Termin willkommen!\nFalls du gerne selber mal eine Feier im Village ausrichten willst: Hier https://thevillagehamburg.de/dein-event/ findest du alle Infos – schreib oder sprich uns gerne an\, wir freuen uns auf deine Ideen! \nBild <a href=“http://www.freepik.com“>Designed by Freepik</a>
URL:https://thevillagehamburg.de/event/ruhetag/2023-08-06/
LOCATION:The Village\, Tibarg 21\, Hamburg\, 22459\, Germany
ATTACH;FMTTYPE=image/jpeg:https://thevillagehamburg.de/wp-content/uploads/2023/01/sorry_closed.jpg
ORGANIZER;CN="The Village":MAILTO:info@thevillagehamburg.de
END:VEVENT
BEGIN:VEVENT
DTSTART;VALUE=DATE:20230807
DTEND;VALUE=DATE:20230809
DTSTAMP:20260423T125555
CREATED:20231203T172509Z
LAST-MODIFIED:20231203T173458Z
UID:10001826-1691377200-1691463599@thevillagehamburg.de
SUMMARY:Ruhetag
DESCRIPTION:…auch das Village braucht mal eine Pause\, und an diesem Termin haben wir geschlossen.\nWir heißen dich gerne und herzlich zum nächsten offenen Termin willkommen!\nFalls du gerne selber mal eine Feier im Village ausrichten willst: Hier https://thevillagehamburg.de/dein-event/ findest du alle Infos – schreib oder sprich uns gerne an\, wir freuen uns auf deine Ideen! \nBild <a href=“http://www.freepik.com“>Designed by Freepik</a>
URL:https://thevillagehamburg.de/event/ruhetag-2/2023-08-07/
LOCATION:The Village\, Tibarg 21\, Hamburg\, 22459\, Germany
ATTACH;FMTTYPE=image/jpeg:https://thevillagehamburg.de/wp-content/uploads/2023/01/sorry_closed.jpg
ORGANIZER;CN="The Village":MAILTO:info@thevillagehamburg.de
END:VEVENT
BEGIN:VEVENT
DTSTART;VALUE=DATE:20230808
DTEND;VALUE=DATE:20230810
DTSTAMP:20260423T125555
CREATED:20200908T173824Z
LAST-MODIFIED:20231203T165900Z
UID:10001561-1691463600-1691549999@thevillagehamburg.de
SUMMARY:Kunstworkshop für Kinder und Jugendliche | The Village
DESCRIPTION:Dienstags 15.00 Uhr bis 17.00 Uhr findet unser offener Kunstworkshop für Kinder und Jugendliche statt. In dieser Zeit gehört die Galerie den Kindern und Jugendlichen. Es gibt ein festes Thema das wir wöchentlich bearbeiten. \nSchwierigkeitsniveau: für alle ErfahrungslevelsMaterialien: Malmaterialien vorhanden
URL:https://thevillagehamburg.de/event/2423/2023-08-08/
LOCATION:The Village\, Tibarg 21\, Hamburg\, 22459\, Germany
CATEGORIES:Art
ATTACH;FMTTYPE=image/jpeg:https://thevillagehamburg.de/wp-content/uploads/2022/12/Kunstworkshops-fur-Kinder-Dienstags-.jpg
END:VEVENT
BEGIN:VEVENT
DTSTART;TZID=Europe/Berlin:20230808T093000
DTEND;TZID=Europe/Berlin:20230808T113000
DTSTAMP:20260423T125555
CREATED:20221216T222318Z
LAST-MODIFIED:20231203T174333Z
UID:10000916-1691487000-1691494200@thevillagehamburg.de
SUMMARY:Kunstkurs für Frauen
DESCRIPTION:
URL:https://thevillagehamburg.de/event/kunstkurs-fur-frauen/2023-08-08/
LOCATION:The Village\, Tibarg 21\, Hamburg\, 22459\, Germany
CATEGORIES:Art,International,Kultur
ATTACH;FMTTYPE=image/jpeg:https://thevillagehamburg.de/wp-content/uploads/2022/12/Kunstkurs-fur-Frauen-.jpg
ORGANIZER;CN="The Village":MAILTO:info@thevillagehamburg.de
END:VEVENT
BEGIN:VEVENT
DTSTART;TZID=Europe/Berlin:20230808T113000
DTEND;TZID=Europe/Berlin:20230808T133000
DTSTAMP:20260423T125555
CREATED:20221216T222608Z
LAST-MODIFIED:20231203T165643Z
UID:10000967-1691494200-1691501400@thevillagehamburg.de
SUMMARY:Kunstkurs für Frauen
DESCRIPTION:
URL:https://thevillagehamburg.de/event/kunstkurs-fur-frauen-2/2023-08-08/
LOCATION:The Village\, Tibarg 21\, Hamburg\, 22459\, Germany
CATEGORIES:Art,Kultur
ATTACH;FMTTYPE=image/jpeg:https://thevillagehamburg.de/wp-content/uploads/2022/12/Kunstkurs-fur-Frauen-Teil-2-.jpg
ORGANIZER;CN="The Village":MAILTO:info@thevillagehamburg.de
END:VEVENT
BEGIN:VEVENT
DTSTART;TZID=Europe/Berlin:20230808T173000
DTEND;TZID=Europe/Berlin:20230808T193000
DTSTAMP:20260423T125555
CREATED:20221216T222755Z
LAST-MODIFIED:20231203T170018Z
UID:10001018-1691515800-1691523000@thevillagehamburg.de
SUMMARY:Kunstkurs für Erwachsene
DESCRIPTION:
URL:https://thevillagehamburg.de/event/kunstkurs-fur-erwachsene/2023-08-08/
LOCATION:The Village\, Tibarg 21\, Hamburg\, 22459\, Germany
CATEGORIES:Art
ATTACH;FMTTYPE=image/jpeg:https://thevillagehamburg.de/wp-content/uploads/2022/12/Kunstkurs-fur-junge-Erwachsene-1.jpg
ORGANIZER;CN="The Village":MAILTO:info@thevillagehamburg.de
END:VEVENT
BEGIN:VEVENT
DTSTART;TZID=Europe/Berlin:20230809T160000
DTEND;TZID=Europe/Berlin:20230809T180000
DTSTAMP:20260423T125555
CREATED:20200908T212349Z
LAST-MODIFIED:20231203T174034Z
UID:10000762-1691596800-1691604000@thevillagehamburg.de
SUMMARY:Kunstworkshop für Kinder und Jugendliche | The Village
DESCRIPTION:Mittwochs von 16.00 Uhr bis 18.00 Uhr ist im Village Kunstworkshop für Kinder und Jugendliche angesagt. In dieser Zeit gehört die Galerie den Kindern und Jugendlichen. Es gibt ein festes Thema das wir wöchentlich bearbeiten. \nSchwierigkeitsniveau: für alle ErfahrungslevelsMaterialien: Malmaterialien vorhanden
URL:https://thevillagehamburg.de/event/kunstworkshop-fur-kinder-und-jugendliche-the-village/2023-08-09/
LOCATION:The Village\, Tibarg 21\, Hamburg\, 22459\, Germany
CATEGORIES:Art
ATTACH;FMTTYPE=image/jpeg:https://thevillagehamburg.de/wp-content/uploads/2022/12/Kunstworkshops-fur-Kinder-Mittwochs-.jpg
END:VEVENT
BEGIN:VEVENT
DTSTART;TZID=Europe/Berlin:20230810T190000
DTEND;TZID=Europe/Berlin:20230810T210000
DTSTAMP:20260423T125555
CREATED:20220125T190342Z
LAST-MODIFIED:20231203T174735Z
UID:10000859-1691694000-1691701200@thevillagehamburg.de
SUMMARY:Offener Malabend
DESCRIPTION:Malen nach eigenen Vorstellungen und Wünschen in Gesellschafft und mit fachkundiger Begleitung. Vorhandene  Acrylfarben und Pinsel aus der Galerie können verwendet werden. Weitere Materialien bitte mitbringen. Eine Auswahl kleinerer Leinwände halten wir für euch vor Ort zum Kauf bereit. (Wünsche bitte gerne vorher absprechen.)
URL:https://thevillagehamburg.de/event/offener-malabend-2/2023-08-10/
LOCATION:The Village\, Tibarg 21\, Hamburg\, 22459\, Germany
CATEGORIES:Art
ATTACH;FMTTYPE=image/png:https://thevillagehamburg.de/wp-content/uploads/2022/01/Offener.png
ORGANIZER;CN="The Village":MAILTO:info@thevillagehamburg.de
END:VEVENT
BEGIN:VEVENT
DTSTART;TZID=Europe/Berlin:20230811T203000
DTEND;TZID=Europe/Berlin:20230811T223000
DTSTAMP:20260423T125555
CREATED:20221216T221545Z
LAST-MODIFIED:20231204T201109Z
UID:10000880-1691785800-1691793000@thevillagehamburg.de
SUMMARY:120 Minuten Party
DESCRIPTION:
URL:https://thevillagehamburg.de/event/120-minuten-party/2023-08-11/
LOCATION:The Village\, Tibarg 21\, Hamburg\, 22459\, Germany
CATEGORIES:International,Musik
ATTACH;FMTTYPE=image/jpeg:https://thevillagehamburg.de/wp-content/uploads/2022/12/120-Minuten-Party.jpg
ORGANIZER;CN="The Village":MAILTO:info@thevillagehamburg.de
END:VEVENT
BEGIN:VEVENT
DTSTART;VALUE=DATE:20230813
DTEND;VALUE=DATE:20230815
DTSTAMP:20260423T125555
CREATED:20230107T144006Z
LAST-MODIFIED:20231203T172654Z
UID:10001719-1691895600-1691981999@thevillagehamburg.de
SUMMARY:Ruhetag
DESCRIPTION:…auch das Village braucht mal eine Pause\, und an diesem Termin haben wir geschlossen.\nWir heißen dich gerne und herzlich zum nächsten offenen Termin willkommen!\nFalls du gerne selber mal eine Feier im Village ausrichten willst: Hier https://thevillagehamburg.de/dein-event/ findest du alle Infos – schreib oder sprich uns gerne an\, wir freuen uns auf deine Ideen! \nBild <a href=“http://www.freepik.com“>Designed by Freepik</a>
URL:https://thevillagehamburg.de/event/ruhetag/2023-08-13/
LOCATION:The Village\, Tibarg 21\, Hamburg\, 22459\, Germany
ATTACH;FMTTYPE=image/jpeg:https://thevillagehamburg.de/wp-content/uploads/2023/01/sorry_closed.jpg
ORGANIZER;CN="The Village":MAILTO:info@thevillagehamburg.de
END:VEVENT
BEGIN:VEVENT
DTSTART;VALUE=DATE:20230814
DTEND;VALUE=DATE:20230816
DTSTAMP:20260423T125555
CREATED:20231203T172509Z
LAST-MODIFIED:20231203T173458Z
UID:10001827-1691982000-1692068399@thevillagehamburg.de
SUMMARY:Ruhetag
DESCRIPTION:…auch das Village braucht mal eine Pause\, und an diesem Termin haben wir geschlossen.\nWir heißen dich gerne und herzlich zum nächsten offenen Termin willkommen!\nFalls du gerne selber mal eine Feier im Village ausrichten willst: Hier https://thevillagehamburg.de/dein-event/ findest du alle Infos – schreib oder sprich uns gerne an\, wir freuen uns auf deine Ideen! \nBild <a href=“http://www.freepik.com“>Designed by Freepik</a>
URL:https://thevillagehamburg.de/event/ruhetag-2/2023-08-14/
LOCATION:The Village\, Tibarg 21\, Hamburg\, 22459\, Germany
ATTACH;FMTTYPE=image/jpeg:https://thevillagehamburg.de/wp-content/uploads/2023/01/sorry_closed.jpg
ORGANIZER;CN="The Village":MAILTO:info@thevillagehamburg.de
END:VEVENT
BEGIN:VEVENT
DTSTART;VALUE=DATE:20230815
DTEND;VALUE=DATE:20230817
DTSTAMP:20260423T125555
CREATED:20200908T173824Z
LAST-MODIFIED:20231203T165900Z
UID:10001562-1692068400-1692154799@thevillagehamburg.de
SUMMARY:Kunstworkshop für Kinder und Jugendliche | The Village
DESCRIPTION:Dienstags 15.00 Uhr bis 17.00 Uhr findet unser offener Kunstworkshop für Kinder und Jugendliche statt. In dieser Zeit gehört die Galerie den Kindern und Jugendlichen. Es gibt ein festes Thema das wir wöchentlich bearbeiten. \nSchwierigkeitsniveau: für alle ErfahrungslevelsMaterialien: Malmaterialien vorhanden
URL:https://thevillagehamburg.de/event/2423/2023-08-15/
LOCATION:The Village\, Tibarg 21\, Hamburg\, 22459\, Germany
CATEGORIES:Art
ATTACH;FMTTYPE=image/jpeg:https://thevillagehamburg.de/wp-content/uploads/2022/12/Kunstworkshops-fur-Kinder-Dienstags-.jpg
END:VEVENT
BEGIN:VEVENT
DTSTART;TZID=Europe/Berlin:20230815T093000
DTEND;TZID=Europe/Berlin:20230815T113000
DTSTAMP:20260423T125555
CREATED:20221216T222318Z
LAST-MODIFIED:20231203T174333Z
UID:10000917-1692091800-1692099000@thevillagehamburg.de
SUMMARY:Kunstkurs für Frauen
DESCRIPTION:
URL:https://thevillagehamburg.de/event/kunstkurs-fur-frauen/2023-08-15/
LOCATION:The Village\, Tibarg 21\, Hamburg\, 22459\, Germany
CATEGORIES:Art,International,Kultur
ATTACH;FMTTYPE=image/jpeg:https://thevillagehamburg.de/wp-content/uploads/2022/12/Kunstkurs-fur-Frauen-.jpg
ORGANIZER;CN="The Village":MAILTO:info@thevillagehamburg.de
END:VEVENT
BEGIN:VEVENT
DTSTART;TZID=Europe/Berlin:20230815T113000
DTEND;TZID=Europe/Berlin:20230815T133000
DTSTAMP:20260423T125555
CREATED:20221216T222608Z
LAST-MODIFIED:20231203T165643Z
UID:10000968-1692099000-1692106200@thevillagehamburg.de
SUMMARY:Kunstkurs für Frauen
DESCRIPTION:
URL:https://thevillagehamburg.de/event/kunstkurs-fur-frauen-2/2023-08-15/
LOCATION:The Village\, Tibarg 21\, Hamburg\, 22459\, Germany
CATEGORIES:Art,Kultur
ATTACH;FMTTYPE=image/jpeg:https://thevillagehamburg.de/wp-content/uploads/2022/12/Kunstkurs-fur-Frauen-Teil-2-.jpg
ORGANIZER;CN="The Village":MAILTO:info@thevillagehamburg.de
END:VEVENT
BEGIN:VEVENT
DTSTART;TZID=Europe/Berlin:20230815T173000
DTEND;TZID=Europe/Berlin:20230815T193000
DTSTAMP:20260423T125555
CREATED:20221216T222755Z
LAST-MODIFIED:20231203T170018Z
UID:10001019-1692120600-1692127800@thevillagehamburg.de
SUMMARY:Kunstkurs für Erwachsene
DESCRIPTION:
URL:https://thevillagehamburg.de/event/kunstkurs-fur-erwachsene/2023-08-15/
LOCATION:The Village\, Tibarg 21\, Hamburg\, 22459\, Germany
CATEGORIES:Art
ATTACH;FMTTYPE=image/jpeg:https://thevillagehamburg.de/wp-content/uploads/2022/12/Kunstkurs-fur-junge-Erwachsene-1.jpg
ORGANIZER;CN="The Village":MAILTO:info@thevillagehamburg.de
END:VEVENT
BEGIN:VEVENT
DTSTART;TZID=Europe/Berlin:20230816T160000
DTEND;TZID=Europe/Berlin:20230816T180000
DTSTAMP:20260423T125555
CREATED:20200908T212349Z
LAST-MODIFIED:20231203T174034Z
UID:10000763-1692201600-1692208800@thevillagehamburg.de
SUMMARY:Kunstworkshop für Kinder und Jugendliche | The Village
DESCRIPTION:Mittwochs von 16.00 Uhr bis 18.00 Uhr ist im Village Kunstworkshop für Kinder und Jugendliche angesagt. In dieser Zeit gehört die Galerie den Kindern und Jugendlichen. Es gibt ein festes Thema das wir wöchentlich bearbeiten. \nSchwierigkeitsniveau: für alle ErfahrungslevelsMaterialien: Malmaterialien vorhanden
URL:https://thevillagehamburg.de/event/kunstworkshop-fur-kinder-und-jugendliche-the-village/2023-08-16/
LOCATION:The Village\, Tibarg 21\, Hamburg\, 22459\, Germany
CATEGORIES:Art
ATTACH;FMTTYPE=image/jpeg:https://thevillagehamburg.de/wp-content/uploads/2022/12/Kunstworkshops-fur-Kinder-Mittwochs-.jpg
END:VEVENT
BEGIN:VEVENT
DTSTART;TZID=Europe/Berlin:20230818T213000
DTEND;TZID=Europe/Berlin:20230818T233000
DTSTAMP:20260423T125555
CREATED:20230620T195339Z
LAST-MODIFIED:20230620T195339Z
UID:10000669-1692394200-1692401400@thevillagehamburg.de
SUMMARY:Open Air Kino
DESCRIPTION:Es gibt selbstgemachtes Popcorn und einen zum Film passenden Drink. \nInsgesamt werden wir an sechs Terminen Filme zeigen\, Französische\, Deutsche\, Amerikanische\, Alte und Neue… aber eines sind sie immer: unterhaltsam und familienfreundlich. \nFilm ab!
URL:https://thevillagehamburg.de/event/open-air-kino-5/
LOCATION:The Village\, Tibarg 21\, Hamburg\, 22459\, Germany
CATEGORIES:Kino,Kultur
ATTACH;FMTTYPE=image/jpeg:https://thevillagehamburg.de/wp-content/uploads/2023/06/Open-Air-Kino-.jpg
ORGANIZER;CN="The Village":MAILTO:info@thevillagehamburg.de
END:VEVENT
BEGIN:VEVENT
DTSTART;VALUE=DATE:20230820
DTEND;VALUE=DATE:20230822
DTSTAMP:20260423T125555
CREATED:20230107T144006Z
LAST-MODIFIED:20231203T172654Z
UID:10001720-1692500400-1692586799@thevillagehamburg.de
SUMMARY:Ruhetag
DESCRIPTION:…auch das Village braucht mal eine Pause\, und an diesem Termin haben wir geschlossen.\nWir heißen dich gerne und herzlich zum nächsten offenen Termin willkommen!\nFalls du gerne selber mal eine Feier im Village ausrichten willst: Hier https://thevillagehamburg.de/dein-event/ findest du alle Infos – schreib oder sprich uns gerne an\, wir freuen uns auf deine Ideen! \nBild <a href=“http://www.freepik.com“>Designed by Freepik</a>
URL:https://thevillagehamburg.de/event/ruhetag/2023-08-20/
LOCATION:The Village\, Tibarg 21\, Hamburg\, 22459\, Germany
ATTACH;FMTTYPE=image/jpeg:https://thevillagehamburg.de/wp-content/uploads/2023/01/sorry_closed.jpg
ORGANIZER;CN="The Village":MAILTO:info@thevillagehamburg.de
END:VEVENT
BEGIN:VEVENT
DTSTART;VALUE=DATE:20230821
DTEND;VALUE=DATE:20230823
DTSTAMP:20260423T125555
CREATED:20231203T172509Z
LAST-MODIFIED:20231203T173458Z
UID:10001828-1692586800-1692673199@thevillagehamburg.de
SUMMARY:Ruhetag
DESCRIPTION:…auch das Village braucht mal eine Pause\, und an diesem Termin haben wir geschlossen.\nWir heißen dich gerne und herzlich zum nächsten offenen Termin willkommen!\nFalls du gerne selber mal eine Feier im Village ausrichten willst: Hier https://thevillagehamburg.de/dein-event/ findest du alle Infos – schreib oder sprich uns gerne an\, wir freuen uns auf deine Ideen! \nBild <a href=“http://www.freepik.com“>Designed by Freepik</a>
URL:https://thevillagehamburg.de/event/ruhetag-2/2023-08-21/
LOCATION:The Village\, Tibarg 21\, Hamburg\, 22459\, Germany
ATTACH;FMTTYPE=image/jpeg:https://thevillagehamburg.de/wp-content/uploads/2023/01/sorry_closed.jpg
ORGANIZER;CN="The Village":MAILTO:info@thevillagehamburg.de
END:VEVENT
BEGIN:VEVENT
DTSTART;VALUE=DATE:20230822
DTEND;VALUE=DATE:20230824
DTSTAMP:20260423T125555
CREATED:20200908T173824Z
LAST-MODIFIED:20231203T165900Z
UID:10001563-1692673200-1692759599@thevillagehamburg.de
SUMMARY:Kunstworkshop für Kinder und Jugendliche | The Village
DESCRIPTION:Dienstags 15.00 Uhr bis 17.00 Uhr findet unser offener Kunstworkshop für Kinder und Jugendliche statt. In dieser Zeit gehört die Galerie den Kindern und Jugendlichen. Es gibt ein festes Thema das wir wöchentlich bearbeiten. \nSchwierigkeitsniveau: für alle ErfahrungslevelsMaterialien: Malmaterialien vorhanden
URL:https://thevillagehamburg.de/event/2423/2023-08-22/
LOCATION:The Village\, Tibarg 21\, Hamburg\, 22459\, Germany
CATEGORIES:Art
ATTACH;FMTTYPE=image/jpeg:https://thevillagehamburg.de/wp-content/uploads/2022/12/Kunstworkshops-fur-Kinder-Dienstags-.jpg
END:VEVENT
BEGIN:VEVENT
DTSTART;TZID=Europe/Berlin:20230822T093000
DTEND;TZID=Europe/Berlin:20230822T113000
DTSTAMP:20260423T125555
CREATED:20221216T222318Z
LAST-MODIFIED:20231203T174333Z
UID:10000918-1692696600-1692703800@thevillagehamburg.de
SUMMARY:Kunstkurs für Frauen
DESCRIPTION:
URL:https://thevillagehamburg.de/event/kunstkurs-fur-frauen/2023-08-22/
LOCATION:The Village\, Tibarg 21\, Hamburg\, 22459\, Germany
CATEGORIES:Art,International,Kultur
ATTACH;FMTTYPE=image/jpeg:https://thevillagehamburg.de/wp-content/uploads/2022/12/Kunstkurs-fur-Frauen-.jpg
ORGANIZER;CN="The Village":MAILTO:info@thevillagehamburg.de
END:VEVENT
BEGIN:VEVENT
DTSTART;TZID=Europe/Berlin:20230822T113000
DTEND;TZID=Europe/Berlin:20230822T133000
DTSTAMP:20260423T125555
CREATED:20221216T222608Z
LAST-MODIFIED:20231203T165643Z
UID:10000969-1692703800-1692711000@thevillagehamburg.de
SUMMARY:Kunstkurs für Frauen
DESCRIPTION:
URL:https://thevillagehamburg.de/event/kunstkurs-fur-frauen-2/2023-08-22/
LOCATION:The Village\, Tibarg 21\, Hamburg\, 22459\, Germany
CATEGORIES:Art,Kultur
ATTACH;FMTTYPE=image/jpeg:https://thevillagehamburg.de/wp-content/uploads/2022/12/Kunstkurs-fur-Frauen-Teil-2-.jpg
ORGANIZER;CN="The Village":MAILTO:info@thevillagehamburg.de
END:VEVENT
BEGIN:VEVENT
DTSTART;TZID=Europe/Berlin:20230822T173000
DTEND;TZID=Europe/Berlin:20230822T193000
DTSTAMP:20260423T125555
CREATED:20221216T222755Z
LAST-MODIFIED:20231203T170018Z
UID:10001020-1692725400-1692732600@thevillagehamburg.de
SUMMARY:Kunstkurs für Erwachsene
DESCRIPTION:
URL:https://thevillagehamburg.de/event/kunstkurs-fur-erwachsene/2023-08-22/
LOCATION:The Village\, Tibarg 21\, Hamburg\, 22459\, Germany
CATEGORIES:Art
ATTACH;FMTTYPE=image/jpeg:https://thevillagehamburg.de/wp-content/uploads/2022/12/Kunstkurs-fur-junge-Erwachsene-1.jpg
ORGANIZER;CN="The Village":MAILTO:info@thevillagehamburg.de
END:VEVENT
END:VCALENDAR