BEGIN:VCALENDAR
VERSION:2.0
PRODID:-//The Village - ECPv6.15.15//NONSGML v1.0//EN
CALSCALE:GREGORIAN
METHOD:PUBLISH
X-WR-CALNAME:The Village
X-ORIGINAL-URL:https://thevillagehamburg.de
X-WR-CALDESC:Veranstaltungen für The Village
REFRESH-INTERVAL;VALUE=DURATION:PT1H
X-Robots-Tag:noindex
X-PUBLISHED-TTL:PT1H
BEGIN:VTIMEZONE
TZID:Europe/Berlin
BEGIN:DAYLIGHT
TZOFFSETFROM:+0100
TZOFFSETTO:+0200
TZNAME:CEST
DTSTART:20230326T010000
END:DAYLIGHT
BEGIN:STANDARD
TZOFFSETFROM:+0200
TZOFFSETTO:+0100
TZNAME:CET
DTSTART:20231029T010000
END:STANDARD
BEGIN:DAYLIGHT
TZOFFSETFROM:+0100
TZOFFSETTO:+0200
TZNAME:CEST
DTSTART:20240331T010000
END:DAYLIGHT
BEGIN:STANDARD
TZOFFSETFROM:+0200
TZOFFSETTO:+0100
TZNAME:CET
DTSTART:20241027T010000
END:STANDARD
BEGIN:DAYLIGHT
TZOFFSETFROM:+0100
TZOFFSETTO:+0200
TZNAME:CEST
DTSTART:20250330T010000
END:DAYLIGHT
BEGIN:STANDARD
TZOFFSETFROM:+0200
TZOFFSETTO:+0100
TZNAME:CET
DTSTART:20251026T010000
END:STANDARD
END:VTIMEZONE
BEGIN:VEVENT
DTSTART;TZID=Europe/Berlin:20241101T180000
DTEND;TZID=Europe/Berlin:20241101T233000
DTSTAMP:20260419T202208
CREATED:20240904T101134Z
LAST-MODIFIED:20240918T102239Z
UID:10002171-1730484000-1730503800@thevillagehamburg.de
SUMMARY:Geschlossene Veranstaltung
DESCRIPTION:Heute gehört das Village einer Gruppe netter Menschen die ihre eigene Feier zelebrieren und bleibt daher für die Öffentlichkeit geschlossen
URL:https://thevillagehamburg.de/event/geschlossene-veranstaltung-7/2024-11-01/
LOCATION:The Village\, Tibarg 21\, Hamburg\, 22459\, Germany
CATEGORIES:Gastronomie,Geschlossene Gesellschaft
ATTACH;FMTTYPE=image/jpeg:https://thevillagehamburg.de/wp-content/uploads/2024/05/GEschlossene-Gesellschaft.jpg
ORGANIZER;CN="The Village":MAILTO:info@thevillagehamburg.de
END:VEVENT
BEGIN:VEVENT
DTSTART;VALUE=DATE:20241103
DTEND;VALUE=DATE:20241105
DTSTAMP:20260419T202208
CREATED:20230107T144006Z
LAST-MODIFIED:20231203T172654Z
UID:10001781-1730602800-1730689199@thevillagehamburg.de
SUMMARY:Ruhetag
DESCRIPTION:…auch das Village braucht mal eine Pause\, und an diesem Termin haben wir geschlossen.\nWir heißen dich gerne und herzlich zum nächsten offenen Termin willkommen!\nFalls du gerne selber mal eine Feier im Village ausrichten willst: Hier https://thevillagehamburg.de/dein-event/ findest du alle Infos – schreib oder sprich uns gerne an\, wir freuen uns auf deine Ideen! \nBild <a href=“http://www.freepik.com“>Designed by Freepik</a>
URL:https://thevillagehamburg.de/event/ruhetag/2024-11-03/
LOCATION:The Village\, Tibarg 21\, Hamburg\, 22459\, Germany
ATTACH;FMTTYPE=image/jpeg:https://thevillagehamburg.de/wp-content/uploads/2023/01/sorry_closed.jpg
ORGANIZER;CN="The Village":MAILTO:info@thevillagehamburg.de
END:VEVENT
BEGIN:VEVENT
DTSTART;VALUE=DATE:20241104
DTEND;VALUE=DATE:20241106
DTSTAMP:20260419T202208
CREATED:20231203T172509Z
LAST-MODIFIED:20231203T173458Z
UID:10001890-1730689200-1730775599@thevillagehamburg.de
SUMMARY:Ruhetag
DESCRIPTION:…auch das Village braucht mal eine Pause\, und an diesem Termin haben wir geschlossen.\nWir heißen dich gerne und herzlich zum nächsten offenen Termin willkommen!\nFalls du gerne selber mal eine Feier im Village ausrichten willst: Hier https://thevillagehamburg.de/dein-event/ findest du alle Infos – schreib oder sprich uns gerne an\, wir freuen uns auf deine Ideen! \nBild <a href=“http://www.freepik.com“>Designed by Freepik</a>
URL:https://thevillagehamburg.de/event/ruhetag-2/2024-11-04/
LOCATION:The Village\, Tibarg 21\, Hamburg\, 22459\, Germany
ATTACH;FMTTYPE=image/jpeg:https://thevillagehamburg.de/wp-content/uploads/2023/01/sorry_closed.jpg
ORGANIZER;CN="The Village":MAILTO:info@thevillagehamburg.de
END:VEVENT
BEGIN:VEVENT
DTSTART;VALUE=DATE:20241105
DTEND;VALUE=DATE:20241107
DTSTAMP:20260419T202208
CREATED:20200908T173824Z
LAST-MODIFIED:20231203T165900Z
UID:10001624-1730775600-1730861999@thevillagehamburg.de
SUMMARY:Kunstworkshop für Kinder und Jugendliche | The Village
DESCRIPTION:Dienstags 15.00 Uhr bis 17.00 Uhr findet unser offener Kunstworkshop für Kinder und Jugendliche statt. In dieser Zeit gehört die Galerie den Kindern und Jugendlichen. Es gibt ein festes Thema das wir wöchentlich bearbeiten. \nSchwierigkeitsniveau: für alle ErfahrungslevelsMaterialien: Malmaterialien vorhanden
URL:https://thevillagehamburg.de/event/2423/2024-11-05/
LOCATION:The Village\, Tibarg 21\, Hamburg\, 22459\, Germany
CATEGORIES:Art
ATTACH;FMTTYPE=image/jpeg:https://thevillagehamburg.de/wp-content/uploads/2022/12/Kunstworkshops-fur-Kinder-Dienstags-.jpg
END:VEVENT
BEGIN:VEVENT
DTSTART;TZID=Europe/Berlin:20241105T093000
DTEND;TZID=Europe/Berlin:20241105T113000
DTSTAMP:20260419T202208
CREATED:20221216T222318Z
LAST-MODIFIED:20231203T174333Z
UID:10001470-1730799000-1730806200@thevillagehamburg.de
SUMMARY:Kunstkurs für Frauen
DESCRIPTION:
URL:https://thevillagehamburg.de/event/kunstkurs-fur-frauen/2024-11-05/
LOCATION:The Village\, Tibarg 21\, Hamburg\, 22459\, Germany
CATEGORIES:Art,International,Kultur
ATTACH;FMTTYPE=image/jpeg:https://thevillagehamburg.de/wp-content/uploads/2022/12/Kunstkurs-fur-Frauen-.jpg
ORGANIZER;CN="The Village":MAILTO:info@thevillagehamburg.de
END:VEVENT
BEGIN:VEVENT
DTSTART;TZID=Europe/Berlin:20241105T113000
DTEND;TZID=Europe/Berlin:20241105T133000
DTSTAMP:20260419T202209
CREATED:20221216T222608Z
LAST-MODIFIED:20231203T165643Z
UID:10001522-1730806200-1730813400@thevillagehamburg.de
SUMMARY:Kunstkurs für Frauen
DESCRIPTION:
URL:https://thevillagehamburg.de/event/kunstkurs-fur-frauen-2/2024-11-05/
LOCATION:The Village\, Tibarg 21\, Hamburg\, 22459\, Germany
CATEGORIES:Art,Kultur
ATTACH;FMTTYPE=image/jpeg:https://thevillagehamburg.de/wp-content/uploads/2022/12/Kunstkurs-fur-Frauen-Teil-2-.jpg
ORGANIZER;CN="The Village":MAILTO:info@thevillagehamburg.de
END:VEVENT
BEGIN:VEVENT
DTSTART;TZID=Europe/Berlin:20241105T173000
DTEND;TZID=Europe/Berlin:20241105T193000
DTSTAMP:20260419T202209
CREATED:20221216T222755Z
LAST-MODIFIED:20231203T170018Z
UID:10001677-1730827800-1730835000@thevillagehamburg.de
SUMMARY:Kunstkurs für Erwachsene
DESCRIPTION:
URL:https://thevillagehamburg.de/event/kunstkurs-fur-erwachsene/2024-11-05/
LOCATION:The Village\, Tibarg 21\, Hamburg\, 22459\, Germany
CATEGORIES:Art
ATTACH;FMTTYPE=image/jpeg:https://thevillagehamburg.de/wp-content/uploads/2022/12/Kunstkurs-fur-junge-Erwachsene-1.jpg
ORGANIZER;CN="The Village":MAILTO:info@thevillagehamburg.de
END:VEVENT
BEGIN:VEVENT
DTSTART;TZID=Europe/Berlin:20241106T160000
DTEND;TZID=Europe/Berlin:20241106T180000
DTSTAMP:20260419T202209
CREATED:20200908T212349Z
LAST-MODIFIED:20231203T174034Z
UID:10001417-1730908800-1730916000@thevillagehamburg.de
SUMMARY:Kunstworkshop für Kinder und Jugendliche | The Village
DESCRIPTION:Mittwochs von 16.00 Uhr bis 18.00 Uhr ist im Village Kunstworkshop für Kinder und Jugendliche angesagt. In dieser Zeit gehört die Galerie den Kindern und Jugendlichen. Es gibt ein festes Thema das wir wöchentlich bearbeiten. \nSchwierigkeitsniveau: für alle ErfahrungslevelsMaterialien: Malmaterialien vorhanden
URL:https://thevillagehamburg.de/event/kunstworkshop-fur-kinder-und-jugendliche-the-village/2024-11-06/
LOCATION:The Village\, Tibarg 21\, Hamburg\, 22459\, Germany
CATEGORIES:Art
ATTACH;FMTTYPE=image/jpeg:https://thevillagehamburg.de/wp-content/uploads/2022/12/Kunstworkshops-fur-Kinder-Mittwochs-.jpg
END:VEVENT
BEGIN:VEVENT
DTSTART;TZID=Europe/Berlin:20241106T190000
DTEND;TZID=Europe/Berlin:20241106T210000
DTSTAMP:20260419T202209
CREATED:20231204T202936Z
LAST-MODIFIED:20231204T202941Z
UID:10001974-1730919600-1730926800@thevillagehamburg.de
SUMMARY:Offener Malabend
DESCRIPTION:Malen nach eigenen Vorstellungen und Wünschen in Gesellschafft und mit fachkundiger Begleitung. Vorhandene  Acrylfarben und Pinsel aus der Galerie können verwendet werden. Weitere Materialien bitte mitbringen. Eine Auswahl kleinerer Leinwände halten wir für euch vor Ort zum Kauf bereit. (Wünsche bitte gerne vorher absprechen.)
URL:https://thevillagehamburg.de/event/offener-malabend-2-2/2024-11-06/
LOCATION:The Village\, Tibarg 21\, Hamburg\, 22459\, Germany
CATEGORIES:Art,Kultur
ATTACH;FMTTYPE=image/png:https://thevillagehamburg.de/wp-content/uploads/2022/01/Offener.png
ORGANIZER;CN="The Village":MAILTO:info@thevillagehamburg.de
END:VEVENT
BEGIN:VEVENT
DTSTART;TZID=Europe/Berlin:20241107T193000
DTEND;TZID=Europe/Berlin:20241107T220000
DTSTAMP:20260419T202209
CREATED:20231204T201846Z
LAST-MODIFIED:20240918T101504Z
UID:10001961-1731007800-1731016800@thevillagehamburg.de
SUMMARY:BINGO!
DESCRIPTION:Wer bei Bingo an gesetzte Seniorenabende denkt\, der sollte der Village Bingo Night lieber fern bleiben\, denn hier wird es wild\, bunt und verspielt. Bei Musik\, verkleideten Moderator*innen und im Laufe des Abends auch mehr und mehr verkleideten Besucher*innen artet der Abend oft ein bisschen aus. Vorbeilaufende Menschen sind sich unsicher\, ob drinnen eine Karnevals- oder eine Titti Twister Veranstaltung stattfindet\, oder sich zufällig einfach ein Haufen sinnfrei gut gelaunter Menschen gefunden haben. Es wird Bingo gespielt\, es gibt verschiedenen Musik Einspieler bei denen die Besucher auf die Stühle klettern müssen\, die Bar erobern oder ihre Zettel tauschen. Die legendäre Trash Bingo Runde ist neben der Flatrate an der Cocktailbar und den vielen tollen Bad Taste Geschenken definitiv eins der abendlichen Highlights.
URL:https://thevillagehamburg.de/event/bingo-2/2024-11-07/
LOCATION:The Village\, Tibarg 21\, Hamburg\, 22459\, Germany
CATEGORIES:Games
ATTACH;FMTTYPE=image/jpeg:https://thevillagehamburg.de/wp-content/uploads/2023/12/Bingo.jpg
ORGANIZER;CN="The Village":MAILTO:info@thevillagehamburg.de
END:VEVENT
BEGIN:VEVENT
DTSTART;TZID=Europe/Berlin:20241108T203000
DTEND;TZID=Europe/Berlin:20241108T223000
DTSTAMP:20260419T202209
CREATED:20231204T121404Z
LAST-MODIFIED:20231204T200911Z
UID:10001923-1731097800-1731105000@thevillagehamburg.de
SUMMARY:120 Minuten Party
DESCRIPTION:
URL:https://thevillagehamburg.de/event/120-minuten-party-3/2024-11-08/
LOCATION:The Village\, Tibarg 21\, Hamburg\, 22459\, Germany
CATEGORIES:DJ,International,Musik
ATTACH;FMTTYPE=image/jpeg:https://thevillagehamburg.de/wp-content/uploads/2022/12/120-Minuten-Party.jpg
ORGANIZER;CN="The Village":MAILTO:info@thevillagehamburg.de
END:VEVENT
BEGIN:VEVENT
DTSTART;TZID=Europe/Berlin:20241109T180000
DTEND;TZID=Europe/Berlin:20241109T233000
DTSTAMP:20260419T202209
CREATED:20240904T101134Z
LAST-MODIFIED:20240918T102239Z
UID:10002173-1731175200-1731195000@thevillagehamburg.de
SUMMARY:Geschlossene Veranstaltung
DESCRIPTION:Heute gehört das Village einer Gruppe netter Menschen die ihre eigene Feier zelebrieren und bleibt daher für die Öffentlichkeit geschlossen
URL:https://thevillagehamburg.de/event/geschlossene-veranstaltung-7/2024-11-09/
LOCATION:The Village\, Tibarg 21\, Hamburg\, 22459\, Germany
CATEGORIES:Gastronomie,Geschlossene Gesellschaft
ATTACH;FMTTYPE=image/jpeg:https://thevillagehamburg.de/wp-content/uploads/2024/05/GEschlossene-Gesellschaft.jpg
ORGANIZER;CN="The Village":MAILTO:info@thevillagehamburg.de
END:VEVENT
BEGIN:VEVENT
DTSTART;VALUE=DATE:20241110
DTEND;VALUE=DATE:20241112
DTSTAMP:20260419T202209
CREATED:20230107T144006Z
LAST-MODIFIED:20231203T172654Z
UID:10001782-1731207600-1731293999@thevillagehamburg.de
SUMMARY:Ruhetag
DESCRIPTION:…auch das Village braucht mal eine Pause\, und an diesem Termin haben wir geschlossen.\nWir heißen dich gerne und herzlich zum nächsten offenen Termin willkommen!\nFalls du gerne selber mal eine Feier im Village ausrichten willst: Hier https://thevillagehamburg.de/dein-event/ findest du alle Infos – schreib oder sprich uns gerne an\, wir freuen uns auf deine Ideen! \nBild <a href=“http://www.freepik.com“>Designed by Freepik</a>
URL:https://thevillagehamburg.de/event/ruhetag/2024-11-10/
LOCATION:The Village\, Tibarg 21\, Hamburg\, 22459\, Germany
ATTACH;FMTTYPE=image/jpeg:https://thevillagehamburg.de/wp-content/uploads/2023/01/sorry_closed.jpg
ORGANIZER;CN="The Village":MAILTO:info@thevillagehamburg.de
END:VEVENT
BEGIN:VEVENT
DTSTART;VALUE=DATE:20241111
DTEND;VALUE=DATE:20241113
DTSTAMP:20260419T202209
CREATED:20231203T172509Z
LAST-MODIFIED:20231203T173458Z
UID:10001891-1731294000-1731380399@thevillagehamburg.de
SUMMARY:Ruhetag
DESCRIPTION:…auch das Village braucht mal eine Pause\, und an diesem Termin haben wir geschlossen.\nWir heißen dich gerne und herzlich zum nächsten offenen Termin willkommen!\nFalls du gerne selber mal eine Feier im Village ausrichten willst: Hier https://thevillagehamburg.de/dein-event/ findest du alle Infos – schreib oder sprich uns gerne an\, wir freuen uns auf deine Ideen! \nBild <a href=“http://www.freepik.com“>Designed by Freepik</a>
URL:https://thevillagehamburg.de/event/ruhetag-2/2024-11-11/
LOCATION:The Village\, Tibarg 21\, Hamburg\, 22459\, Germany
ATTACH;FMTTYPE=image/jpeg:https://thevillagehamburg.de/wp-content/uploads/2023/01/sorry_closed.jpg
ORGANIZER;CN="The Village":MAILTO:info@thevillagehamburg.de
END:VEVENT
BEGIN:VEVENT
DTSTART;VALUE=DATE:20241112
DTEND;VALUE=DATE:20241114
DTSTAMP:20260419T202209
CREATED:20200908T173824Z
LAST-MODIFIED:20231203T165900Z
UID:10001625-1731380400-1731466799@thevillagehamburg.de
SUMMARY:Kunstworkshop für Kinder und Jugendliche | The Village
DESCRIPTION:Dienstags 15.00 Uhr bis 17.00 Uhr findet unser offener Kunstworkshop für Kinder und Jugendliche statt. In dieser Zeit gehört die Galerie den Kindern und Jugendlichen. Es gibt ein festes Thema das wir wöchentlich bearbeiten. \nSchwierigkeitsniveau: für alle ErfahrungslevelsMaterialien: Malmaterialien vorhanden
URL:https://thevillagehamburg.de/event/2423/2024-11-12/
LOCATION:The Village\, Tibarg 21\, Hamburg\, 22459\, Germany
CATEGORIES:Art
ATTACH;FMTTYPE=image/jpeg:https://thevillagehamburg.de/wp-content/uploads/2022/12/Kunstworkshops-fur-Kinder-Dienstags-.jpg
END:VEVENT
BEGIN:VEVENT
DTSTART;TZID=Europe/Berlin:20241112T093000
DTEND;TZID=Europe/Berlin:20241112T113000
DTSTAMP:20260419T202209
CREATED:20221216T222318Z
LAST-MODIFIED:20231203T174333Z
UID:10001471-1731403800-1731411000@thevillagehamburg.de
SUMMARY:Kunstkurs für Frauen
DESCRIPTION:
URL:https://thevillagehamburg.de/event/kunstkurs-fur-frauen/2024-11-12/
LOCATION:The Village\, Tibarg 21\, Hamburg\, 22459\, Germany
CATEGORIES:Art,International,Kultur
ATTACH;FMTTYPE=image/jpeg:https://thevillagehamburg.de/wp-content/uploads/2022/12/Kunstkurs-fur-Frauen-.jpg
ORGANIZER;CN="The Village":MAILTO:info@thevillagehamburg.de
END:VEVENT
BEGIN:VEVENT
DTSTART;TZID=Europe/Berlin:20241112T113000
DTEND;TZID=Europe/Berlin:20241112T133000
DTSTAMP:20260419T202209
CREATED:20221216T222608Z
LAST-MODIFIED:20231203T165643Z
UID:10001523-1731411000-1731418200@thevillagehamburg.de
SUMMARY:Kunstkurs für Frauen
DESCRIPTION:
URL:https://thevillagehamburg.de/event/kunstkurs-fur-frauen-2/2024-11-12/
LOCATION:The Village\, Tibarg 21\, Hamburg\, 22459\, Germany
CATEGORIES:Art,Kultur
ATTACH;FMTTYPE=image/jpeg:https://thevillagehamburg.de/wp-content/uploads/2022/12/Kunstkurs-fur-Frauen-Teil-2-.jpg
ORGANIZER;CN="The Village":MAILTO:info@thevillagehamburg.de
END:VEVENT
BEGIN:VEVENT
DTSTART;TZID=Europe/Berlin:20241112T173000
DTEND;TZID=Europe/Berlin:20241112T193000
DTSTAMP:20260419T202209
CREATED:20221216T222755Z
LAST-MODIFIED:20231203T170018Z
UID:10001678-1731432600-1731439800@thevillagehamburg.de
SUMMARY:Kunstkurs für Erwachsene
DESCRIPTION:
URL:https://thevillagehamburg.de/event/kunstkurs-fur-erwachsene/2024-11-12/
LOCATION:The Village\, Tibarg 21\, Hamburg\, 22459\, Germany
CATEGORIES:Art
ATTACH;FMTTYPE=image/jpeg:https://thevillagehamburg.de/wp-content/uploads/2022/12/Kunstkurs-fur-junge-Erwachsene-1.jpg
ORGANIZER;CN="The Village":MAILTO:info@thevillagehamburg.de
END:VEVENT
BEGIN:VEVENT
DTSTART;TZID=Europe/Berlin:20241113T160000
DTEND;TZID=Europe/Berlin:20241113T180000
DTSTAMP:20260419T202209
CREATED:20200908T212349Z
LAST-MODIFIED:20231203T174034Z
UID:10001418-1731513600-1731520800@thevillagehamburg.de
SUMMARY:Kunstworkshop für Kinder und Jugendliche | The Village
DESCRIPTION:Mittwochs von 16.00 Uhr bis 18.00 Uhr ist im Village Kunstworkshop für Kinder und Jugendliche angesagt. In dieser Zeit gehört die Galerie den Kindern und Jugendlichen. Es gibt ein festes Thema das wir wöchentlich bearbeiten. \nSchwierigkeitsniveau: für alle ErfahrungslevelsMaterialien: Malmaterialien vorhanden
URL:https://thevillagehamburg.de/event/kunstworkshop-fur-kinder-und-jugendliche-the-village/2024-11-13/
LOCATION:The Village\, Tibarg 21\, Hamburg\, 22459\, Germany
CATEGORIES:Art
ATTACH;FMTTYPE=image/jpeg:https://thevillagehamburg.de/wp-content/uploads/2022/12/Kunstworkshops-fur-Kinder-Mittwochs-.jpg
END:VEVENT
BEGIN:VEVENT
DTSTART;TZID=Europe/Berlin:20241113T183000
DTEND;TZID=Europe/Berlin:20241113T200000
DTSTAMP:20260419T202209
CREATED:20241028T122842Z
LAST-MODIFIED:20241028T122857Z
UID:10002180-1731522600-1731528000@thevillagehamburg.de
SUMMARY:Finissage Marieke Mittelbach
DESCRIPTION:Die wunderschöne Ausstellung von Marieke Mittelbach verlässt das Village und macht Platz für den Art Sale. \nDie Künstlerin wird in einem kleinen Gespräch nochmal etwas zu ihrer Kunst und ihren Bildern erzählen . \nAn dem Abend zeigen wir neben der bestehenden Ausstellung weitere Bilder \, die im Rahmen des Art Sales ab dem 19.11. gezeigt werden. \n  \n 
URL:https://thevillagehamburg.de/event/finissage-marieke-mittelbach/
LOCATION:The Village\, Tibarg 21\, Hamburg\, 22459\, Germany
CATEGORIES:Art,Kultur,Vernissage
ATTACH;FMTTYPE=image/jpeg:https://thevillagehamburg.de/wp-content/uploads/2024/05/Marieke-Mittelbach-zeige-Bilder-am-Wasser.jpg
ORGANIZER;CN="The Village":MAILTO:info@thevillagehamburg.de
END:VEVENT
BEGIN:VEVENT
DTSTART;TZID=Europe/Berlin:20241115T193000
DTEND;TZID=Europe/Berlin:20241115T220000
DTSTAMP:20260419T202209
CREATED:20240904T094402Z
LAST-MODIFIED:20240904T094412Z
UID:10002167-1731699000-1731708000@thevillagehamburg.de
SUMMARY:Poetry Slam
DESCRIPTION:Unser erster Poetry Slam findet im Village statt.\nAb 19.30 Uhr ist die Bühen offen für Menschen die ihre eigene Texte vortragen wollen. Im Rahmen einer 10 tägigen Veranstaltungsreihe im Stadtteil wollen wir den Slam unter dem Thema „Was bleibt“ laufen lassen. Wie wollen wir in Erinnerung blöeiben\, was bleit wenn wir gehen\, was macht das LEben lebenswert. Was bleibt ist ein weitgefasster Arbeitstitel und wir freuen uns auf Menschen die ihre Gedanken und TExte mit uns teilen.
URL:https://thevillagehamburg.de/event/poetry-slam/
LOCATION:The Village\, Tibarg 21\, Hamburg\, 22459\, Germany
CATEGORIES:Art,Kultur,Philosophie
ATTACH;FMTTYPE=image/jpeg:https://thevillagehamburg.de/wp-content/uploads/2024/09/Offener-Malabend-Instagram-Post15.jpg
ORGANIZER;CN="The Village":MAILTO:info@thevillagehamburg.de
END:VEVENT
BEGIN:VEVENT
DTSTART;TZID=Europe/Berlin:20241116T180000
DTEND;TZID=Europe/Berlin:20241116T233000
DTSTAMP:20260419T202209
CREATED:20240904T101134Z
LAST-MODIFIED:20240918T102239Z
UID:10002174-1731780000-1731799800@thevillagehamburg.de
SUMMARY:Geschlossene Veranstaltung
DESCRIPTION:Heute gehört das Village einer Gruppe netter Menschen die ihre eigene Feier zelebrieren und bleibt daher für die Öffentlichkeit geschlossen
URL:https://thevillagehamburg.de/event/geschlossene-veranstaltung-7/2024-11-16/
LOCATION:The Village\, Tibarg 21\, Hamburg\, 22459\, Germany
CATEGORIES:Gastronomie,Geschlossene Gesellschaft
ATTACH;FMTTYPE=image/jpeg:https://thevillagehamburg.de/wp-content/uploads/2024/05/GEschlossene-Gesellschaft.jpg
ORGANIZER;CN="The Village":MAILTO:info@thevillagehamburg.de
END:VEVENT
BEGIN:VEVENT
DTSTART;VALUE=DATE:20241117
DTEND;VALUE=DATE:20241119
DTSTAMP:20260419T202209
CREATED:20230107T144006Z
LAST-MODIFIED:20231203T172654Z
UID:10001783-1731812400-1731898799@thevillagehamburg.de
SUMMARY:Ruhetag
DESCRIPTION:…auch das Village braucht mal eine Pause\, und an diesem Termin haben wir geschlossen.\nWir heißen dich gerne und herzlich zum nächsten offenen Termin willkommen!\nFalls du gerne selber mal eine Feier im Village ausrichten willst: Hier https://thevillagehamburg.de/dein-event/ findest du alle Infos – schreib oder sprich uns gerne an\, wir freuen uns auf deine Ideen! \nBild <a href=“http://www.freepik.com“>Designed by Freepik</a>
URL:https://thevillagehamburg.de/event/ruhetag/2024-11-17/
LOCATION:The Village\, Tibarg 21\, Hamburg\, 22459\, Germany
ATTACH;FMTTYPE=image/jpeg:https://thevillagehamburg.de/wp-content/uploads/2023/01/sorry_closed.jpg
ORGANIZER;CN="The Village":MAILTO:info@thevillagehamburg.de
END:VEVENT
BEGIN:VEVENT
DTSTART;VALUE=DATE:20241118
DTEND;VALUE=DATE:20241120
DTSTAMP:20260419T202209
CREATED:20231203T172509Z
LAST-MODIFIED:20231203T173458Z
UID:10001892-1731898800-1731985199@thevillagehamburg.de
SUMMARY:Ruhetag
DESCRIPTION:…auch das Village braucht mal eine Pause\, und an diesem Termin haben wir geschlossen.\nWir heißen dich gerne und herzlich zum nächsten offenen Termin willkommen!\nFalls du gerne selber mal eine Feier im Village ausrichten willst: Hier https://thevillagehamburg.de/dein-event/ findest du alle Infos – schreib oder sprich uns gerne an\, wir freuen uns auf deine Ideen! \nBild <a href=“http://www.freepik.com“>Designed by Freepik</a>
URL:https://thevillagehamburg.de/event/ruhetag-2/2024-11-18/
LOCATION:The Village\, Tibarg 21\, Hamburg\, 22459\, Germany
ATTACH;FMTTYPE=image/jpeg:https://thevillagehamburg.de/wp-content/uploads/2023/01/sorry_closed.jpg
ORGANIZER;CN="The Village":MAILTO:info@thevillagehamburg.de
END:VEVENT
BEGIN:VEVENT
DTSTART;VALUE=DATE:20241119
DTEND;VALUE=DATE:20241121
DTSTAMP:20260419T202209
CREATED:20200908T173824Z
LAST-MODIFIED:20231203T165900Z
UID:10001626-1731985200-1732071599@thevillagehamburg.de
SUMMARY:Kunstworkshop für Kinder und Jugendliche | The Village
DESCRIPTION:Dienstags 15.00 Uhr bis 17.00 Uhr findet unser offener Kunstworkshop für Kinder und Jugendliche statt. In dieser Zeit gehört die Galerie den Kindern und Jugendlichen. Es gibt ein festes Thema das wir wöchentlich bearbeiten. \nSchwierigkeitsniveau: für alle ErfahrungslevelsMaterialien: Malmaterialien vorhanden
URL:https://thevillagehamburg.de/event/2423/2024-11-19/
LOCATION:The Village\, Tibarg 21\, Hamburg\, 22459\, Germany
CATEGORIES:Art
ATTACH;FMTTYPE=image/jpeg:https://thevillagehamburg.de/wp-content/uploads/2022/12/Kunstworkshops-fur-Kinder-Dienstags-.jpg
END:VEVENT
BEGIN:VEVENT
DTSTART;TZID=Europe/Berlin:20241119T093000
DTEND;TZID=Europe/Berlin:20241119T113000
DTSTAMP:20260419T202209
CREATED:20221216T222318Z
LAST-MODIFIED:20231203T174333Z
UID:10001472-1732008600-1732015800@thevillagehamburg.de
SUMMARY:Kunstkurs für Frauen
DESCRIPTION:
URL:https://thevillagehamburg.de/event/kunstkurs-fur-frauen/2024-11-19/
LOCATION:The Village\, Tibarg 21\, Hamburg\, 22459\, Germany
CATEGORIES:Art,International,Kultur
ATTACH;FMTTYPE=image/jpeg:https://thevillagehamburg.de/wp-content/uploads/2022/12/Kunstkurs-fur-Frauen-.jpg
ORGANIZER;CN="The Village":MAILTO:info@thevillagehamburg.de
END:VEVENT
BEGIN:VEVENT
DTSTART;TZID=Europe/Berlin:20241119T113000
DTEND;TZID=Europe/Berlin:20241119T133000
DTSTAMP:20260419T202209
CREATED:20221216T222608Z
LAST-MODIFIED:20231203T165643Z
UID:10001524-1732015800-1732023000@thevillagehamburg.de
SUMMARY:Kunstkurs für Frauen
DESCRIPTION:
URL:https://thevillagehamburg.de/event/kunstkurs-fur-frauen-2/2024-11-19/
LOCATION:The Village\, Tibarg 21\, Hamburg\, 22459\, Germany
CATEGORIES:Art,Kultur
ATTACH;FMTTYPE=image/jpeg:https://thevillagehamburg.de/wp-content/uploads/2022/12/Kunstkurs-fur-Frauen-Teil-2-.jpg
ORGANIZER;CN="The Village":MAILTO:info@thevillagehamburg.de
END:VEVENT
BEGIN:VEVENT
DTSTART;TZID=Europe/Berlin:20241119T173000
DTEND;TZID=Europe/Berlin:20241119T193000
DTSTAMP:20260419T202209
CREATED:20221216T222755Z
LAST-MODIFIED:20231203T170018Z
UID:10001679-1732037400-1732044600@thevillagehamburg.de
SUMMARY:Kunstkurs für Erwachsene
DESCRIPTION:
URL:https://thevillagehamburg.de/event/kunstkurs-fur-erwachsene/2024-11-19/
LOCATION:The Village\, Tibarg 21\, Hamburg\, 22459\, Germany
CATEGORIES:Art
ATTACH;FMTTYPE=image/jpeg:https://thevillagehamburg.de/wp-content/uploads/2022/12/Kunstkurs-fur-junge-Erwachsene-1.jpg
ORGANIZER;CN="The Village":MAILTO:info@thevillagehamburg.de
END:VEVENT
BEGIN:VEVENT
DTSTART;TZID=Europe/Berlin:20241120T160000
DTEND;TZID=Europe/Berlin:20241120T180000
DTSTAMP:20260419T202209
CREATED:20200908T212349Z
LAST-MODIFIED:20231203T174034Z
UID:10001419-1732118400-1732125600@thevillagehamburg.de
SUMMARY:Kunstworkshop für Kinder und Jugendliche | The Village
DESCRIPTION:Mittwochs von 16.00 Uhr bis 18.00 Uhr ist im Village Kunstworkshop für Kinder und Jugendliche angesagt. In dieser Zeit gehört die Galerie den Kindern und Jugendlichen. Es gibt ein festes Thema das wir wöchentlich bearbeiten. \nSchwierigkeitsniveau: für alle ErfahrungslevelsMaterialien: Malmaterialien vorhanden
URL:https://thevillagehamburg.de/event/kunstworkshop-fur-kinder-und-jugendliche-the-village/2024-11-20/
LOCATION:The Village\, Tibarg 21\, Hamburg\, 22459\, Germany
CATEGORIES:Art
ATTACH;FMTTYPE=image/jpeg:https://thevillagehamburg.de/wp-content/uploads/2022/12/Kunstworkshops-fur-Kinder-Mittwochs-.jpg
END:VEVENT
BEGIN:VEVENT
DTSTART;TZID=Europe/Berlin:20241120T190000
DTEND;TZID=Europe/Berlin:20241120T210000
DTSTAMP:20260419T202209
CREATED:20240904T093948Z
LAST-MODIFIED:20240904T093958Z
UID:10002166-1732129200-1732136400@thevillagehamburg.de
SUMMARY:Death Cafe
DESCRIPTION:In einer gemütlichen Runde sprechen wir über das Leben und den Tod\, über den Umgang mit Tod\, dessen Bedeutung\, die Ängste und das Leben mit dem Tod als festen Begleiter.  \nEs wird gelacht\, geweint\, philosophiert und in kleinen Gruppen sich ausgetauscht.\nAngeleitet wird der Abend durch die Pastrorin Maren Gottsmann.
URL:https://thevillagehamburg.de/event/death-cafe/
LOCATION:The Village\, Tibarg 21\, Hamburg\, 22459\, Germany
CATEGORIES:Kultur,Philosophie
ATTACH;FMTTYPE=image/jpeg:https://thevillagehamburg.de/wp-content/uploads/2023/01/Death-Cafe.jpg
ORGANIZER;CN="The Village":MAILTO:info@thevillagehamburg.de
END:VEVENT
END:VCALENDAR