BEGIN:VCALENDAR
VERSION:2.0
PRODID:-//The Village - ECPv6.15.20//NONSGML v1.0//EN
CALSCALE:GREGORIAN
METHOD:PUBLISH
X-WR-CALNAME:The Village
X-ORIGINAL-URL:https://thevillagehamburg.de
X-WR-CALDESC:Veranstaltungen für The Village
REFRESH-INTERVAL;VALUE=DURATION:PT1H
X-Robots-Tag:noindex
X-PUBLISHED-TTL:PT1H
BEGIN:VTIMEZONE
TZID:Europe/Berlin
BEGIN:DAYLIGHT
TZOFFSETFROM:+0100
TZOFFSETTO:+0200
TZNAME:CEST
DTSTART:20230326T010000
END:DAYLIGHT
BEGIN:STANDARD
TZOFFSETFROM:+0200
TZOFFSETTO:+0100
TZNAME:CET
DTSTART:20231029T010000
END:STANDARD
BEGIN:DAYLIGHT
TZOFFSETFROM:+0100
TZOFFSETTO:+0200
TZNAME:CEST
DTSTART:20240331T010000
END:DAYLIGHT
BEGIN:STANDARD
TZOFFSETFROM:+0200
TZOFFSETTO:+0100
TZNAME:CET
DTSTART:20241027T010000
END:STANDARD
BEGIN:DAYLIGHT
TZOFFSETFROM:+0100
TZOFFSETTO:+0200
TZNAME:CEST
DTSTART:20250330T010000
END:DAYLIGHT
BEGIN:STANDARD
TZOFFSETFROM:+0200
TZOFFSETTO:+0100
TZNAME:CET
DTSTART:20251026T010000
END:STANDARD
END:VTIMEZONE
BEGIN:VEVENT
DTSTART;TZID=Europe/Berlin:20241203T093000
DTEND;TZID=Europe/Berlin:20241203T113000
DTSTAMP:20260424T203409
CREATED:20221216T222318Z
LAST-MODIFIED:20231203T174333Z
UID:10001474-1733218200-1733225400@thevillagehamburg.de
SUMMARY:Kunstkurs für Frauen
DESCRIPTION:
URL:https://thevillagehamburg.de/event/kunstkurs-fur-frauen/2024-12-03/
LOCATION:The Village\, Tibarg 21\, Hamburg\, 22459\, Germany
CATEGORIES:Art,International,Kultur
ATTACH;FMTTYPE=image/jpeg:https://thevillagehamburg.de/wp-content/uploads/2022/12/Kunstkurs-fur-Frauen-.jpg
ORGANIZER;CN="The Village":MAILTO:info@thevillagehamburg.de
END:VEVENT
BEGIN:VEVENT
DTSTART;TZID=Europe/Berlin:20241210T093000
DTEND;TZID=Europe/Berlin:20241210T113000
DTSTAMP:20260424T203409
CREATED:20221216T222318Z
LAST-MODIFIED:20231203T174333Z
UID:10001475-1733823000-1733830200@thevillagehamburg.de
SUMMARY:Kunstkurs für Frauen
DESCRIPTION:
URL:https://thevillagehamburg.de/event/kunstkurs-fur-frauen/2024-12-10/
LOCATION:The Village\, Tibarg 21\, Hamburg\, 22459\, Germany
CATEGORIES:Art,International,Kultur
ATTACH;FMTTYPE=image/jpeg:https://thevillagehamburg.de/wp-content/uploads/2022/12/Kunstkurs-fur-Frauen-.jpg
ORGANIZER;CN="The Village":MAILTO:info@thevillagehamburg.de
END:VEVENT
BEGIN:VEVENT
DTSTART;TZID=Europe/Berlin:20241217T093000
DTEND;TZID=Europe/Berlin:20241217T113000
DTSTAMP:20260424T203409
CREATED:20221216T222318Z
LAST-MODIFIED:20231203T174333Z
UID:10001476-1734427800-1734435000@thevillagehamburg.de
SUMMARY:Kunstkurs für Frauen
DESCRIPTION:
URL:https://thevillagehamburg.de/event/kunstkurs-fur-frauen/2024-12-17/
LOCATION:The Village\, Tibarg 21\, Hamburg\, 22459\, Germany
CATEGORIES:Art,International,Kultur
ATTACH;FMTTYPE=image/jpeg:https://thevillagehamburg.de/wp-content/uploads/2022/12/Kunstkurs-fur-Frauen-.jpg
ORGANIZER;CN="The Village":MAILTO:info@thevillagehamburg.de
END:VEVENT
BEGIN:VEVENT
DTSTART;TZID=Europe/Berlin:20241224T093000
DTEND;TZID=Europe/Berlin:20241224T113000
DTSTAMP:20260424T203409
CREATED:20221216T222318Z
LAST-MODIFIED:20231203T174333Z
UID:10001477-1735032600-1735039800@thevillagehamburg.de
SUMMARY:Kunstkurs für Frauen
DESCRIPTION:
URL:https://thevillagehamburg.de/event/kunstkurs-fur-frauen/2024-12-24/
LOCATION:The Village\, Tibarg 21\, Hamburg\, 22459\, Germany
CATEGORIES:Art,International,Kultur
ATTACH;FMTTYPE=image/jpeg:https://thevillagehamburg.de/wp-content/uploads/2022/12/Kunstkurs-fur-Frauen-.jpg
ORGANIZER;CN="The Village":MAILTO:info@thevillagehamburg.de
END:VEVENT
BEGIN:VEVENT
DTSTART;TZID=Europe/Berlin:20241231T093000
DTEND;TZID=Europe/Berlin:20241231T113000
DTSTAMP:20260424T203409
CREATED:20221216T222318Z
LAST-MODIFIED:20231203T174333Z
UID:10001478-1735637400-1735644600@thevillagehamburg.de
SUMMARY:Kunstkurs für Frauen
DESCRIPTION:
URL:https://thevillagehamburg.de/event/kunstkurs-fur-frauen/2024-12-31/
LOCATION:The Village\, Tibarg 21\, Hamburg\, 22459\, Germany
CATEGORIES:Art,International,Kultur
ATTACH;FMTTYPE=image/jpeg:https://thevillagehamburg.de/wp-content/uploads/2022/12/Kunstkurs-fur-Frauen-.jpg
ORGANIZER;CN="The Village":MAILTO:info@thevillagehamburg.de
END:VEVENT
END:VCALENDAR