BEGIN:VCALENDAR
VERSION:2.0
PRODID:-//The Village - ECPv6.15.15//NONSGML v1.0//EN
CALSCALE:GREGORIAN
METHOD:PUBLISH
X-WR-CALNAME:The Village
X-ORIGINAL-URL:https://thevillagehamburg.de
X-WR-CALDESC:Veranstaltungen für The Village
REFRESH-INTERVAL;VALUE=DURATION:PT1H
X-Robots-Tag:noindex
X-PUBLISHED-TTL:PT1H
BEGIN:VTIMEZONE
TZID:Europe/Berlin
BEGIN:DAYLIGHT
TZOFFSETFROM:+0100
TZOFFSETTO:+0200
TZNAME:CEST
DTSTART:20220327T010000
END:DAYLIGHT
BEGIN:STANDARD
TZOFFSETFROM:+0200
TZOFFSETTO:+0100
TZNAME:CET
DTSTART:20221030T010000
END:STANDARD
BEGIN:DAYLIGHT
TZOFFSETFROM:+0100
TZOFFSETTO:+0200
TZNAME:CEST
DTSTART:20230326T010000
END:DAYLIGHT
BEGIN:STANDARD
TZOFFSETFROM:+0200
TZOFFSETTO:+0100
TZNAME:CET
DTSTART:20231029T010000
END:STANDARD
BEGIN:DAYLIGHT
TZOFFSETFROM:+0100
TZOFFSETTO:+0200
TZNAME:CEST
DTSTART:20240331T010000
END:DAYLIGHT
BEGIN:STANDARD
TZOFFSETFROM:+0200
TZOFFSETTO:+0100
TZNAME:CET
DTSTART:20241027T010000
END:STANDARD
END:VTIMEZONE
BEGIN:VEVENT
DTSTART;TZID=Europe/Berlin:20230302T170000
DTEND;TZID=Europe/Berlin:20230302T233000
DTSTAMP:20260420T004006
CREATED:20231021T095056Z
LAST-MODIFIED:20231030T160322Z
UID:10001295-1677776400-1677799800@thevillagehamburg.de
SUMMARY:Geschlossene Gesellschaft
DESCRIPTION:Sorry vielmals\, aber das Village ist für diesen Zeitraum für die Öffentlichkeit geschlossen\, da eine private Feier stattfindet.\nWir heißen dich gerne und herzlich zum nächsten offenen Termin willkommen!\nFalls du gerne selber mal eine Feier im Village ausrichten willst: Hier https://thevillagehamburg.de/dein-event/ findest du alle Infos – schreib oder sprich uns gerne an\, wir freuen uns auf deine Ideen!
URL:https://thevillagehamburg.de/event/geschlossene-gesellschaft-4/2023-03-02/
LOCATION:The Village\, Tibarg 21\, Hamburg\, 22459\, Germany
CATEGORIES:Geschlossene Gesellschaft
ATTACH;FMTTYPE=image/jpeg:https://thevillagehamburg.de/wp-content/uploads/2023/01/sorry_closed.jpg
END:VEVENT
BEGIN:VEVENT
DTSTART;TZID=Europe/Berlin:20230302T180000
DTEND;TZID=Europe/Berlin:20230302T233000
DTSTAMP:20260420T004006
CREATED:20230328T072546Z
LAST-MODIFIED:20230328T072546Z
UID:10001269-1677780000-1677799800@thevillagehamburg.de
SUMMARY:Geschlossene Gesellschaft
DESCRIPTION:Sorry vielmals\, aber das Village ist für diesen Zeitraum für die Öffentlichkeit geschlossen\, da eine private Feier stattfindet.\nWir heißen dich gerne und herzlich zum nächsten offenen Termin willkommen!\nFalls du gerne selber mal eine Feier im Village ausrichten willst: Hier https://thevillagehamburg.de/dein-event/ findest du alle Infos – schreib oder sprich uns gerne an\, wir freuen uns auf deine Ideen!
URL:https://thevillagehamburg.de/event/geschlossene-gesellschaft-2/2023-03-02/
LOCATION:The Village\, Tibarg 21\, Hamburg\, 22459\, Germany
CATEGORIES:Geschlossene Gesellschaft
END:VEVENT
BEGIN:VEVENT
DTSTART;TZID=Europe/Berlin:20230302T180000
DTEND;TZID=Europe/Berlin:20230302T233000
DTSTAMP:20260420T004006
CREATED:20231021T095310Z
LAST-MODIFIED:20231021T095310Z
UID:10001303-1677780000-1677799800@thevillagehamburg.de
SUMMARY:Geschlossene Gesellschaft
DESCRIPTION:Sorry vielmals\, aber das Village ist für diesen Zeitraum für die Öffentlichkeit geschlossen\, da eine private Feier stattfindet.\nWir heißen dich gerne und herzlich zum nächsten offenen Termin willkommen!\nFalls du gerne selber mal eine Feier im Village ausrichten willst: Hier https://thevillagehamburg.de/dein-event/ findest du alle Infos – schreib oder sprich uns gerne an\, wir freuen uns auf deine Ideen!
URL:https://thevillagehamburg.de/event/geschlossene-gesellschaft-6/2023-03-02/
LOCATION:The Village\, Tibarg 21\, Hamburg\, 22459\, Germany
CATEGORIES:Geschlossene Gesellschaft
END:VEVENT
BEGIN:VEVENT
DTSTART;TZID=Europe/Berlin:20230302T180000
DTEND;TZID=Europe/Berlin:20230302T233000
DTSTAMP:20260420T004006
CREATED:20231021T095356Z
LAST-MODIFIED:20231021T095356Z
UID:10001307-1677780000-1677799800@thevillagehamburg.de
SUMMARY:Geschlossene Gesellschaft
DESCRIPTION:Sorry vielmals\, aber das Village ist für diesen Zeitraum für die Öffentlichkeit geschlossen\, da eine private Feier stattfindet.\nWir heißen dich gerne und herzlich zum nächsten offenen Termin willkommen!\nFalls du gerne selber mal eine Feier im Village ausrichten willst: Hier https://thevillagehamburg.de/dein-event/ findest du alle Infos – schreib oder sprich uns gerne an\, wir freuen uns auf deine Ideen!
URL:https://thevillagehamburg.de/event/geschlossene-gesellschaft-7/2023-03-02/
LOCATION:The Village\, Tibarg 21\, Hamburg\, 22459\, Germany
CATEGORIES:Geschlossene Gesellschaft
END:VEVENT
BEGIN:VEVENT
DTSTART;TZID=Europe/Berlin:20230302T180000
DTEND;TZID=Europe/Berlin:20230302T233000
DTSTAMP:20260420T004006
CREATED:20231021T095453Z
LAST-MODIFIED:20231021T095453Z
UID:10000728-1677780000-1677799800@thevillagehamburg.de
SUMMARY:Geschlossene Gesellschaft
DESCRIPTION:Sorry vielmals\, aber das Village ist für diesen Zeitraum für die Öffentlichkeit geschlossen\, da eine private Feier stattfindet.\nWir heißen dich gerne und herzlich zum nächsten offenen Termin willkommen!\nFalls du gerne selber mal eine Feier im Village ausrichten willst: Hier https://thevillagehamburg.de/dein-event/ findest du alle Infos – schreib oder sprich uns gerne an\, wir freuen uns auf deine Ideen!
URL:https://thevillagehamburg.de/event/geschlossene-gesellschaft-8/2023-03-02/
LOCATION:The Village\, Tibarg 21\, Hamburg\, 22459\, Germany
CATEGORIES:Geschlossene Gesellschaft
END:VEVENT
BEGIN:VEVENT
DTSTART;TZID=Europe/Berlin:20230302T183000
DTEND;TZID=Europe/Berlin:20230302T233000
DTSTAMP:20260420T004006
CREATED:20230420T131749Z
LAST-MODIFIED:20230420T131749Z
UID:10000658-1677781800-1677799800@thevillagehamburg.de
SUMMARY:Geschlossene Gesellschaft
DESCRIPTION:Sorry vielmals\, aber das Village ist für diesen Zeitraum für die Öffentlichkeit geschlossen\, da eine private Feier stattfindet.\nWir heißen dich gerne und herzlich zum nächsten offenen Termin willkommen!\nFalls du gerne selber mal eine Feier im Village ausrichten willst: Hier https://thevillagehamburg.de/dein-event/ findest du alle Infos – schreib oder sprich uns gerne an\, wir freuen uns auf deine Ideen!
URL:https://thevillagehamburg.de/event/geschlossene-gesellschaft-3/2023-03-02/
LOCATION:The Village\, Tibarg 21\, Hamburg\, 22459\, Germany
CATEGORIES:Geschlossene Gesellschaft
END:VEVENT
BEGIN:VEVENT
DTSTART;TZID=Europe/Berlin:20230302T190000
DTEND;TZID=Europe/Berlin:20230302T233000
DTSTAMP:20260420T004006
CREATED:20231021T095208Z
LAST-MODIFIED:20231021T095208Z
UID:10001299-1677783600-1677799800@thevillagehamburg.de
SUMMARY:Geschlossene Gesellschaft
DESCRIPTION:Sorry vielmals\, aber das Village ist für diesen Zeitraum für die Öffentlichkeit geschlossen\, da eine private Feier stattfindet.\nWir heißen dich gerne und herzlich zum nächsten offenen Termin willkommen!\nFalls du gerne selber mal eine Feier im Village ausrichten willst: Hier https://thevillagehamburg.de/dein-event/ findest du alle Infos – schreib oder sprich uns gerne an\, wir freuen uns auf deine Ideen!
URL:https://thevillagehamburg.de/event/geschlossene-gesellschaft-5/2023-03-02/
LOCATION:The Village\, Tibarg 21\, Hamburg\, 22459\, Germany
CATEGORIES:Geschlossene Gesellschaft
END:VEVENT
BEGIN:VEVENT
DTSTART;TZID=Europe/Berlin:20230303T170000
DTEND;TZID=Europe/Berlin:20230303T233000
DTSTAMP:20260420T004006
CREATED:20231021T095056Z
LAST-MODIFIED:20231030T160322Z
UID:10001296-1677862800-1677886200@thevillagehamburg.de
SUMMARY:Geschlossene Gesellschaft
DESCRIPTION:Sorry vielmals\, aber das Village ist für diesen Zeitraum für die Öffentlichkeit geschlossen\, da eine private Feier stattfindet.\nWir heißen dich gerne und herzlich zum nächsten offenen Termin willkommen!\nFalls du gerne selber mal eine Feier im Village ausrichten willst: Hier https://thevillagehamburg.de/dein-event/ findest du alle Infos – schreib oder sprich uns gerne an\, wir freuen uns auf deine Ideen!
URL:https://thevillagehamburg.de/event/geschlossene-gesellschaft-4/2023-03-03/
LOCATION:The Village\, Tibarg 21\, Hamburg\, 22459\, Germany
CATEGORIES:Geschlossene Gesellschaft
ATTACH;FMTTYPE=image/jpeg:https://thevillagehamburg.de/wp-content/uploads/2023/01/sorry_closed.jpg
END:VEVENT
BEGIN:VEVENT
DTSTART;TZID=Europe/Berlin:20230303T180000
DTEND;TZID=Europe/Berlin:20230303T233000
DTSTAMP:20260420T004006
CREATED:20230328T072546Z
LAST-MODIFIED:20230328T072546Z
UID:10001270-1677866400-1677886200@thevillagehamburg.de
SUMMARY:Geschlossene Gesellschaft
DESCRIPTION:Sorry vielmals\, aber das Village ist für diesen Zeitraum für die Öffentlichkeit geschlossen\, da eine private Feier stattfindet.\nWir heißen dich gerne und herzlich zum nächsten offenen Termin willkommen!\nFalls du gerne selber mal eine Feier im Village ausrichten willst: Hier https://thevillagehamburg.de/dein-event/ findest du alle Infos – schreib oder sprich uns gerne an\, wir freuen uns auf deine Ideen!
URL:https://thevillagehamburg.de/event/geschlossene-gesellschaft-2/2023-03-03/
LOCATION:The Village\, Tibarg 21\, Hamburg\, 22459\, Germany
CATEGORIES:Geschlossene Gesellschaft
END:VEVENT
BEGIN:VEVENT
DTSTART;TZID=Europe/Berlin:20230303T180000
DTEND;TZID=Europe/Berlin:20230303T233000
DTSTAMP:20260420T004006
CREATED:20231021T095310Z
LAST-MODIFIED:20231021T095310Z
UID:10001304-1677866400-1677886200@thevillagehamburg.de
SUMMARY:Geschlossene Gesellschaft
DESCRIPTION:Sorry vielmals\, aber das Village ist für diesen Zeitraum für die Öffentlichkeit geschlossen\, da eine private Feier stattfindet.\nWir heißen dich gerne und herzlich zum nächsten offenen Termin willkommen!\nFalls du gerne selber mal eine Feier im Village ausrichten willst: Hier https://thevillagehamburg.de/dein-event/ findest du alle Infos – schreib oder sprich uns gerne an\, wir freuen uns auf deine Ideen!
URL:https://thevillagehamburg.de/event/geschlossene-gesellschaft-6/2023-03-03/
LOCATION:The Village\, Tibarg 21\, Hamburg\, 22459\, Germany
CATEGORIES:Geschlossene Gesellschaft
END:VEVENT
BEGIN:VEVENT
DTSTART;TZID=Europe/Berlin:20230303T180000
DTEND;TZID=Europe/Berlin:20230303T233000
DTSTAMP:20260420T004006
CREATED:20231021T095356Z
LAST-MODIFIED:20231021T095356Z
UID:10001308-1677866400-1677886200@thevillagehamburg.de
SUMMARY:Geschlossene Gesellschaft
DESCRIPTION:Sorry vielmals\, aber das Village ist für diesen Zeitraum für die Öffentlichkeit geschlossen\, da eine private Feier stattfindet.\nWir heißen dich gerne und herzlich zum nächsten offenen Termin willkommen!\nFalls du gerne selber mal eine Feier im Village ausrichten willst: Hier https://thevillagehamburg.de/dein-event/ findest du alle Infos – schreib oder sprich uns gerne an\, wir freuen uns auf deine Ideen!
URL:https://thevillagehamburg.de/event/geschlossene-gesellschaft-7/2023-03-03/
LOCATION:The Village\, Tibarg 21\, Hamburg\, 22459\, Germany
CATEGORIES:Geschlossene Gesellschaft
END:VEVENT
BEGIN:VEVENT
DTSTART;TZID=Europe/Berlin:20230303T180000
DTEND;TZID=Europe/Berlin:20230303T233000
DTSTAMP:20260420T004006
CREATED:20231021T095453Z
LAST-MODIFIED:20231021T095453Z
UID:10000729-1677866400-1677886200@thevillagehamburg.de
SUMMARY:Geschlossene Gesellschaft
DESCRIPTION:Sorry vielmals\, aber das Village ist für diesen Zeitraum für die Öffentlichkeit geschlossen\, da eine private Feier stattfindet.\nWir heißen dich gerne und herzlich zum nächsten offenen Termin willkommen!\nFalls du gerne selber mal eine Feier im Village ausrichten willst: Hier https://thevillagehamburg.de/dein-event/ findest du alle Infos – schreib oder sprich uns gerne an\, wir freuen uns auf deine Ideen!
URL:https://thevillagehamburg.de/event/geschlossene-gesellschaft-8/2023-03-03/
LOCATION:The Village\, Tibarg 21\, Hamburg\, 22459\, Germany
CATEGORIES:Geschlossene Gesellschaft
END:VEVENT
BEGIN:VEVENT
DTSTART;TZID=Europe/Berlin:20230303T183000
DTEND;TZID=Europe/Berlin:20230303T233000
DTSTAMP:20260420T004006
CREATED:20230420T131749Z
LAST-MODIFIED:20230420T131749Z
UID:10000659-1677868200-1677886200@thevillagehamburg.de
SUMMARY:Geschlossene Gesellschaft
DESCRIPTION:Sorry vielmals\, aber das Village ist für diesen Zeitraum für die Öffentlichkeit geschlossen\, da eine private Feier stattfindet.\nWir heißen dich gerne und herzlich zum nächsten offenen Termin willkommen!\nFalls du gerne selber mal eine Feier im Village ausrichten willst: Hier https://thevillagehamburg.de/dein-event/ findest du alle Infos – schreib oder sprich uns gerne an\, wir freuen uns auf deine Ideen!
URL:https://thevillagehamburg.de/event/geschlossene-gesellschaft-3/2023-03-03/
LOCATION:The Village\, Tibarg 21\, Hamburg\, 22459\, Germany
CATEGORIES:Geschlossene Gesellschaft
END:VEVENT
BEGIN:VEVENT
DTSTART;TZID=Europe/Berlin:20230303T190000
DTEND;TZID=Europe/Berlin:20230303T233000
DTSTAMP:20260420T004006
CREATED:20231021T095208Z
LAST-MODIFIED:20231021T095208Z
UID:10001300-1677870000-1677886200@thevillagehamburg.de
SUMMARY:Geschlossene Gesellschaft
DESCRIPTION:Sorry vielmals\, aber das Village ist für diesen Zeitraum für die Öffentlichkeit geschlossen\, da eine private Feier stattfindet.\nWir heißen dich gerne und herzlich zum nächsten offenen Termin willkommen!\nFalls du gerne selber mal eine Feier im Village ausrichten willst: Hier https://thevillagehamburg.de/dein-event/ findest du alle Infos – schreib oder sprich uns gerne an\, wir freuen uns auf deine Ideen!
URL:https://thevillagehamburg.de/event/geschlossene-gesellschaft-5/2023-03-03/
LOCATION:The Village\, Tibarg 21\, Hamburg\, 22459\, Germany
CATEGORIES:Geschlossene Gesellschaft
END:VEVENT
BEGIN:VEVENT
DTSTART;TZID=Europe/Berlin:20230304T170000
DTEND;TZID=Europe/Berlin:20230304T233000
DTSTAMP:20260420T004006
CREATED:20231021T095056Z
LAST-MODIFIED:20231030T160322Z
UID:10001297-1677949200-1677972600@thevillagehamburg.de
SUMMARY:Geschlossene Gesellschaft
DESCRIPTION:Sorry vielmals\, aber das Village ist für diesen Zeitraum für die Öffentlichkeit geschlossen\, da eine private Feier stattfindet.\nWir heißen dich gerne und herzlich zum nächsten offenen Termin willkommen!\nFalls du gerne selber mal eine Feier im Village ausrichten willst: Hier https://thevillagehamburg.de/dein-event/ findest du alle Infos – schreib oder sprich uns gerne an\, wir freuen uns auf deine Ideen!
URL:https://thevillagehamburg.de/event/geschlossene-gesellschaft-4/2023-03-04/
LOCATION:The Village\, Tibarg 21\, Hamburg\, 22459\, Germany
CATEGORIES:Geschlossene Gesellschaft
ATTACH;FMTTYPE=image/jpeg:https://thevillagehamburg.de/wp-content/uploads/2023/01/sorry_closed.jpg
END:VEVENT
BEGIN:VEVENT
DTSTART;TZID=Europe/Berlin:20230304T180000
DTEND;TZID=Europe/Berlin:20230304T233000
DTSTAMP:20260420T004006
CREATED:20230328T072546Z
LAST-MODIFIED:20230328T072546Z
UID:10001271-1677952800-1677972600@thevillagehamburg.de
SUMMARY:Geschlossene Gesellschaft
DESCRIPTION:Sorry vielmals\, aber das Village ist für diesen Zeitraum für die Öffentlichkeit geschlossen\, da eine private Feier stattfindet.\nWir heißen dich gerne und herzlich zum nächsten offenen Termin willkommen!\nFalls du gerne selber mal eine Feier im Village ausrichten willst: Hier https://thevillagehamburg.de/dein-event/ findest du alle Infos – schreib oder sprich uns gerne an\, wir freuen uns auf deine Ideen!
URL:https://thevillagehamburg.de/event/geschlossene-gesellschaft-2/2023-03-04/
LOCATION:The Village\, Tibarg 21\, Hamburg\, 22459\, Germany
CATEGORIES:Geschlossene Gesellschaft
END:VEVENT
BEGIN:VEVENT
DTSTART;TZID=Europe/Berlin:20230304T180000
DTEND;TZID=Europe/Berlin:20230304T233000
DTSTAMP:20260420T004006
CREATED:20231021T095310Z
LAST-MODIFIED:20231021T095310Z
UID:10001305-1677952800-1677972600@thevillagehamburg.de
SUMMARY:Geschlossene Gesellschaft
DESCRIPTION:Sorry vielmals\, aber das Village ist für diesen Zeitraum für die Öffentlichkeit geschlossen\, da eine private Feier stattfindet.\nWir heißen dich gerne und herzlich zum nächsten offenen Termin willkommen!\nFalls du gerne selber mal eine Feier im Village ausrichten willst: Hier https://thevillagehamburg.de/dein-event/ findest du alle Infos – schreib oder sprich uns gerne an\, wir freuen uns auf deine Ideen!
URL:https://thevillagehamburg.de/event/geschlossene-gesellschaft-6/2023-03-04/
LOCATION:The Village\, Tibarg 21\, Hamburg\, 22459\, Germany
CATEGORIES:Geschlossene Gesellschaft
END:VEVENT
BEGIN:VEVENT
DTSTART;TZID=Europe/Berlin:20230304T180000
DTEND;TZID=Europe/Berlin:20230304T233000
DTSTAMP:20260420T004006
CREATED:20231021T095356Z
LAST-MODIFIED:20231021T095356Z
UID:10001309-1677952800-1677972600@thevillagehamburg.de
SUMMARY:Geschlossene Gesellschaft
DESCRIPTION:Sorry vielmals\, aber das Village ist für diesen Zeitraum für die Öffentlichkeit geschlossen\, da eine private Feier stattfindet.\nWir heißen dich gerne und herzlich zum nächsten offenen Termin willkommen!\nFalls du gerne selber mal eine Feier im Village ausrichten willst: Hier https://thevillagehamburg.de/dein-event/ findest du alle Infos – schreib oder sprich uns gerne an\, wir freuen uns auf deine Ideen!
URL:https://thevillagehamburg.de/event/geschlossene-gesellschaft-7/2023-03-04/
LOCATION:The Village\, Tibarg 21\, Hamburg\, 22459\, Germany
CATEGORIES:Geschlossene Gesellschaft
END:VEVENT
BEGIN:VEVENT
DTSTART;TZID=Europe/Berlin:20230304T180000
DTEND;TZID=Europe/Berlin:20230304T233000
DTSTAMP:20260420T004006
CREATED:20231021T095453Z
LAST-MODIFIED:20231021T095453Z
UID:10000730-1677952800-1677972600@thevillagehamburg.de
SUMMARY:Geschlossene Gesellschaft
DESCRIPTION:Sorry vielmals\, aber das Village ist für diesen Zeitraum für die Öffentlichkeit geschlossen\, da eine private Feier stattfindet.\nWir heißen dich gerne und herzlich zum nächsten offenen Termin willkommen!\nFalls du gerne selber mal eine Feier im Village ausrichten willst: Hier https://thevillagehamburg.de/dein-event/ findest du alle Infos – schreib oder sprich uns gerne an\, wir freuen uns auf deine Ideen!
URL:https://thevillagehamburg.de/event/geschlossene-gesellschaft-8/2023-03-04/
LOCATION:The Village\, Tibarg 21\, Hamburg\, 22459\, Germany
CATEGORIES:Geschlossene Gesellschaft
END:VEVENT
BEGIN:VEVENT
DTSTART;TZID=Europe/Berlin:20230304T183000
DTEND;TZID=Europe/Berlin:20230304T233000
DTSTAMP:20260420T004006
CREATED:20230420T131749Z
LAST-MODIFIED:20230420T131749Z
UID:10000660-1677954600-1677972600@thevillagehamburg.de
SUMMARY:Geschlossene Gesellschaft
DESCRIPTION:Sorry vielmals\, aber das Village ist für diesen Zeitraum für die Öffentlichkeit geschlossen\, da eine private Feier stattfindet.\nWir heißen dich gerne und herzlich zum nächsten offenen Termin willkommen!\nFalls du gerne selber mal eine Feier im Village ausrichten willst: Hier https://thevillagehamburg.de/dein-event/ findest du alle Infos – schreib oder sprich uns gerne an\, wir freuen uns auf deine Ideen!
URL:https://thevillagehamburg.de/event/geschlossene-gesellschaft-3/2023-03-04/
LOCATION:The Village\, Tibarg 21\, Hamburg\, 22459\, Germany
CATEGORIES:Geschlossene Gesellschaft
END:VEVENT
BEGIN:VEVENT
DTSTART;TZID=Europe/Berlin:20230304T190000
DTEND;TZID=Europe/Berlin:20230304T233000
DTSTAMP:20260420T004006
CREATED:20231021T095208Z
LAST-MODIFIED:20231021T095208Z
UID:10001301-1677956400-1677972600@thevillagehamburg.de
SUMMARY:Geschlossene Gesellschaft
DESCRIPTION:Sorry vielmals\, aber das Village ist für diesen Zeitraum für die Öffentlichkeit geschlossen\, da eine private Feier stattfindet.\nWir heißen dich gerne und herzlich zum nächsten offenen Termin willkommen!\nFalls du gerne selber mal eine Feier im Village ausrichten willst: Hier https://thevillagehamburg.de/dein-event/ findest du alle Infos – schreib oder sprich uns gerne an\, wir freuen uns auf deine Ideen!
URL:https://thevillagehamburg.de/event/geschlossene-gesellschaft-5/2023-03-04/
LOCATION:The Village\, Tibarg 21\, Hamburg\, 22459\, Germany
CATEGORIES:Geschlossene Gesellschaft
END:VEVENT
END:VCALENDAR