BEGIN:VCALENDAR
VERSION:2.0
PRODID:-//The Village - ECPv6.15.20//NONSGML v1.0//EN
CALSCALE:GREGORIAN
METHOD:PUBLISH
X-WR-CALNAME:The Village
X-ORIGINAL-URL:https://thevillagehamburg.de
X-WR-CALDESC:Veranstaltungen für The Village
REFRESH-INTERVAL;VALUE=DURATION:PT1H
X-Robots-Tag:noindex
X-PUBLISHED-TTL:PT1H
BEGIN:VTIMEZONE
TZID:Europe/Berlin
BEGIN:DAYLIGHT
TZOFFSETFROM:+0100
TZOFFSETTO:+0200
TZNAME:CEST
DTSTART:20220327T010000
END:DAYLIGHT
BEGIN:STANDARD
TZOFFSETFROM:+0200
TZOFFSETTO:+0100
TZNAME:CET
DTSTART:20221030T010000
END:STANDARD
BEGIN:DAYLIGHT
TZOFFSETFROM:+0100
TZOFFSETTO:+0200
TZNAME:CEST
DTSTART:20230326T010000
END:DAYLIGHT
BEGIN:STANDARD
TZOFFSETFROM:+0200
TZOFFSETTO:+0100
TZNAME:CET
DTSTART:20231029T010000
END:STANDARD
BEGIN:DAYLIGHT
TZOFFSETFROM:+0100
TZOFFSETTO:+0200
TZNAME:CEST
DTSTART:20240331T010000
END:DAYLIGHT
BEGIN:STANDARD
TZOFFSETFROM:+0200
TZOFFSETTO:+0100
TZNAME:CET
DTSTART:20241027T010000
END:STANDARD
END:VTIMEZONE
BEGIN:VEVENT
DTSTART;VALUE=DATE:20230625
DTEND;VALUE=DATE:20230627
DTSTAMP:20260424T130852
CREATED:20230107T144006Z
LAST-MODIFIED:20231203T172654Z
UID:10001712-1687662000-1687748399@thevillagehamburg.de
SUMMARY:Ruhetag
DESCRIPTION:…auch das Village braucht mal eine Pause\, und an diesem Termin haben wir geschlossen.\nWir heißen dich gerne und herzlich zum nächsten offenen Termin willkommen!\nFalls du gerne selber mal eine Feier im Village ausrichten willst: Hier https://thevillagehamburg.de/dein-event/ findest du alle Infos – schreib oder sprich uns gerne an\, wir freuen uns auf deine Ideen! \nBild <a href=“http://www.freepik.com“>Designed by Freepik</a>
URL:https://thevillagehamburg.de/event/ruhetag/2023-06-25/
LOCATION:The Village\, Tibarg 21\, Hamburg\, 22459\, Germany
ATTACH;FMTTYPE=image/jpeg:https://thevillagehamburg.de/wp-content/uploads/2023/01/sorry_closed.jpg
ORGANIZER;CN="The Village":MAILTO:info@thevillagehamburg.de
END:VEVENT
BEGIN:VEVENT
DTSTART;VALUE=DATE:20230626
DTEND;VALUE=DATE:20230628
DTSTAMP:20260424T130852
CREATED:20231203T172509Z
LAST-MODIFIED:20231203T173458Z
UID:10001820-1687748400-1687834799@thevillagehamburg.de
SUMMARY:Ruhetag
DESCRIPTION:…auch das Village braucht mal eine Pause\, und an diesem Termin haben wir geschlossen.\nWir heißen dich gerne und herzlich zum nächsten offenen Termin willkommen!\nFalls du gerne selber mal eine Feier im Village ausrichten willst: Hier https://thevillagehamburg.de/dein-event/ findest du alle Infos – schreib oder sprich uns gerne an\, wir freuen uns auf deine Ideen! \nBild <a href=“http://www.freepik.com“>Designed by Freepik</a>
URL:https://thevillagehamburg.de/event/ruhetag-2/2023-06-26/
LOCATION:The Village\, Tibarg 21\, Hamburg\, 22459\, Germany
ATTACH;FMTTYPE=image/jpeg:https://thevillagehamburg.de/wp-content/uploads/2023/01/sorry_closed.jpg
ORGANIZER;CN="The Village":MAILTO:info@thevillagehamburg.de
END:VEVENT
BEGIN:VEVENT
DTSTART;VALUE=DATE:20230627
DTEND;VALUE=DATE:20230629
DTSTAMP:20260424T130852
CREATED:20200908T173824Z
LAST-MODIFIED:20231203T165900Z
UID:10001555-1687834800-1687921199@thevillagehamburg.de
SUMMARY:Kunstworkshop für Kinder und Jugendliche | The Village
DESCRIPTION:Dienstags 15.00 Uhr bis 17.00 Uhr findet unser offener Kunstworkshop für Kinder und Jugendliche statt. In dieser Zeit gehört die Galerie den Kindern und Jugendlichen. Es gibt ein festes Thema das wir wöchentlich bearbeiten. \nSchwierigkeitsniveau: für alle ErfahrungslevelsMaterialien: Malmaterialien vorhanden
URL:https://thevillagehamburg.de/event/2423/2023-06-27/
LOCATION:The Village\, Tibarg 21\, Hamburg\, 22459\, Germany
CATEGORIES:Art
ATTACH;FMTTYPE=image/jpeg:https://thevillagehamburg.de/wp-content/uploads/2022/12/Kunstworkshops-fur-Kinder-Dienstags-.jpg
END:VEVENT
BEGIN:VEVENT
DTSTART;TZID=Europe/Berlin:20230627T093000
DTEND;TZID=Europe/Berlin:20230627T113000
DTSTAMP:20260424T130852
CREATED:20221216T222318Z
LAST-MODIFIED:20231203T174333Z
UID:10000910-1687858200-1687865400@thevillagehamburg.de
SUMMARY:Kunstkurs für Frauen
DESCRIPTION:
URL:https://thevillagehamburg.de/event/kunstkurs-fur-frauen/2023-06-27/
LOCATION:The Village\, Tibarg 21\, Hamburg\, 22459\, Germany
CATEGORIES:Art,International,Kultur
ATTACH;FMTTYPE=image/jpeg:https://thevillagehamburg.de/wp-content/uploads/2022/12/Kunstkurs-fur-Frauen-.jpg
ORGANIZER;CN="The Village":MAILTO:info@thevillagehamburg.de
END:VEVENT
BEGIN:VEVENT
DTSTART;TZID=Europe/Berlin:20230627T113000
DTEND;TZID=Europe/Berlin:20230627T133000
DTSTAMP:20260424T130852
CREATED:20221216T222608Z
LAST-MODIFIED:20231203T165643Z
UID:10000961-1687865400-1687872600@thevillagehamburg.de
SUMMARY:Kunstkurs für Frauen
DESCRIPTION:
URL:https://thevillagehamburg.de/event/kunstkurs-fur-frauen-2/2023-06-27/
LOCATION:The Village\, Tibarg 21\, Hamburg\, 22459\, Germany
CATEGORIES:Art,Kultur
ATTACH;FMTTYPE=image/jpeg:https://thevillagehamburg.de/wp-content/uploads/2022/12/Kunstkurs-fur-Frauen-Teil-2-.jpg
ORGANIZER;CN="The Village":MAILTO:info@thevillagehamburg.de
END:VEVENT
BEGIN:VEVENT
DTSTART;TZID=Europe/Berlin:20230627T173000
DTEND;TZID=Europe/Berlin:20230627T193000
DTSTAMP:20260424T130852
CREATED:20221216T222755Z
LAST-MODIFIED:20231203T170018Z
UID:10001012-1687887000-1687894200@thevillagehamburg.de
SUMMARY:Kunstkurs für Erwachsene
DESCRIPTION:
URL:https://thevillagehamburg.de/event/kunstkurs-fur-erwachsene/2023-06-27/
LOCATION:The Village\, Tibarg 21\, Hamburg\, 22459\, Germany
CATEGORIES:Art
ATTACH;FMTTYPE=image/jpeg:https://thevillagehamburg.de/wp-content/uploads/2022/12/Kunstkurs-fur-junge-Erwachsene-1.jpg
ORGANIZER;CN="The Village":MAILTO:info@thevillagehamburg.de
END:VEVENT
BEGIN:VEVENT
DTSTART;TZID=Europe/Berlin:20230628T160000
DTEND;TZID=Europe/Berlin:20230628T180000
DTSTAMP:20260424T130852
CREATED:20200908T212349Z
LAST-MODIFIED:20231203T174034Z
UID:10000756-1687968000-1687975200@thevillagehamburg.de
SUMMARY:Kunstworkshop für Kinder und Jugendliche | The Village
DESCRIPTION:Mittwochs von 16.00 Uhr bis 18.00 Uhr ist im Village Kunstworkshop für Kinder und Jugendliche angesagt. In dieser Zeit gehört die Galerie den Kindern und Jugendlichen. Es gibt ein festes Thema das wir wöchentlich bearbeiten. \nSchwierigkeitsniveau: für alle ErfahrungslevelsMaterialien: Malmaterialien vorhanden
URL:https://thevillagehamburg.de/event/kunstworkshop-fur-kinder-und-jugendliche-the-village/2023-06-28/
LOCATION:The Village\, Tibarg 21\, Hamburg\, 22459\, Germany
CATEGORIES:Art
ATTACH;FMTTYPE=image/jpeg:https://thevillagehamburg.de/wp-content/uploads/2022/12/Kunstworkshops-fur-Kinder-Mittwochs-.jpg
END:VEVENT
BEGIN:VEVENT
DTSTART;TZID=Europe/Berlin:20230630T193000
DTEND;TZID=Europe/Berlin:20230630T213000
DTSTAMP:20260424T130852
CREATED:20230627T081512Z
LAST-MODIFIED:20230627T081727Z
UID:10001288-1688153400-1688160600@thevillagehamburg.de
SUMMARY:Katy Santos
DESCRIPTION:Der Film muss leider ausfallen\, doch dafür steht die wunderbare Katy Santos auf der Bühne\, die regelmäßige Besuchende des Village vom Länderabend Spanien oder auch vom Open Mic kennen.\nhttps://www.katysantos.com/
URL:https://thevillagehamburg.de/event/katy-santos/
LOCATION:The Village\, Tibarg 21\, Hamburg\, 22459\, Germany
CATEGORIES:Kultur,Musik
ATTACH;FMTTYPE=image/jpeg:https://thevillagehamburg.de/wp-content/uploads/2023/06/Katy.jpg
ORGANIZER;CN="The Village":MAILTO:info@thevillagehamburg.de
END:VEVENT
BEGIN:VEVENT
DTSTART;TZID=Europe/Berlin:20230701T100000
DTEND;TZID=Europe/Berlin:20230701T170000
DTSTAMP:20260424T130852
CREATED:20230629T214805Z
LAST-MODIFIED:20230629T214815Z
UID:10001289-1688205600-1688230800@thevillagehamburg.de
SUMMARY:Kunstflohmarkt
DESCRIPTION:
URL:https://thevillagehamburg.de/event/kunstflohmarkt/
LOCATION:The Village\, Tibarg 21\, Hamburg\, 22459\, Germany
ATTACH;FMTTYPE=image/jpeg:https://thevillagehamburg.de/wp-content/uploads/2023/06/Kunst-1.jpg
ORGANIZER;CN="The Village":MAILTO:info@thevillagehamburg.de
END:VEVENT
BEGIN:VEVENT
DTSTART;TZID=Europe/Berlin:20230701T190000
DTEND;TZID=Europe/Berlin:20230701T233000
DTSTAMP:20260424T130852
CREATED:20230627T080405Z
LAST-MODIFIED:20230627T080439Z
UID:10001286-1688238000-1688254200@thevillagehamburg.de
SUMMARY:DJ Nappy G - Funk\, Soul\, Roots & Rhythms
DESCRIPTION:Nappy G – Global Fusion of Funk\, Soul\, Roots\, & Rhythms\nDer wundervolle New Yorker DJ und  Live Performer war schon zweimal im Village und beide Male hat er die Hütte zum Beben gebracht. \nWir freuen uns riesig\, ihn zum Tibarg Fest erneut bei uns auf der Bühne zu haben.
URL:https://thevillagehamburg.de/event/dj-nappy-g-funk-soul-roots-rhythms/
LOCATION:The Village\, Tibarg 21\, Hamburg\, 22459\, Germany
CATEGORIES:DJ,International,Kultur,Musik
ATTACH;FMTTYPE=image/jpeg:https://thevillagehamburg.de/wp-content/uploads/2023/06/Jnappy-G-Final-.jpg
ORGANIZER;CN="The Village":MAILTO:info@thevillagehamburg.de
END:VEVENT
BEGIN:VEVENT
DTSTART;VALUE=DATE:20230702
DTEND;VALUE=DATE:20230704
DTSTAMP:20260424T130852
CREATED:20230107T144006Z
LAST-MODIFIED:20231203T172654Z
UID:10001713-1688266800-1688353199@thevillagehamburg.de
SUMMARY:Ruhetag
DESCRIPTION:…auch das Village braucht mal eine Pause\, und an diesem Termin haben wir geschlossen.\nWir heißen dich gerne und herzlich zum nächsten offenen Termin willkommen!\nFalls du gerne selber mal eine Feier im Village ausrichten willst: Hier https://thevillagehamburg.de/dein-event/ findest du alle Infos – schreib oder sprich uns gerne an\, wir freuen uns auf deine Ideen! \nBild <a href=“http://www.freepik.com“>Designed by Freepik</a>
URL:https://thevillagehamburg.de/event/ruhetag/2023-07-02/
LOCATION:The Village\, Tibarg 21\, Hamburg\, 22459\, Germany
ATTACH;FMTTYPE=image/jpeg:https://thevillagehamburg.de/wp-content/uploads/2023/01/sorry_closed.jpg
ORGANIZER;CN="The Village":MAILTO:info@thevillagehamburg.de
END:VEVENT
BEGIN:VEVENT
DTSTART;TZID=Europe/Berlin:20230702T110000
DTEND;TZID=Europe/Berlin:20230702T170000
DTSTAMP:20260424T130852
CREATED:20230627T080917Z
LAST-MODIFIED:20230627T080930Z
UID:10001287-1688295600-1688317200@thevillagehamburg.de
SUMMARY:Village-Tischtennis-Meisterschaft 2023
DESCRIPTION:Am Sonntag wollen wir mit euch spielen.\nWir haben zwei Tischtennis-Platten besorgt und es können Doppel\, Einzel oder Rundlaufspiele gemacht werden. \nDazu gibt es Musik\, Drinks und leckere Quesaddillas.\nAufschlag ist ab 11 Uhr.
URL:https://thevillagehamburg.de/event/village-tischtennis-meisterschaft-2023/
LOCATION:The Village\, Tibarg 21\, Hamburg\, 22459\, Germany
CATEGORIES:Games,Gastronomie
ATTACH;FMTTYPE=image/jpeg:https://thevillagehamburg.de/wp-content/uploads/2023/06/The-Village-Tischtennis-Match.jpg
ORGANIZER;CN="The Village":MAILTO:info@thevillagehamburg.de
END:VEVENT
END:VCALENDAR