BEGIN:VCALENDAR
VERSION:2.0
PRODID:-//The Village - ECPv6.15.20//NONSGML v1.0//EN
CALSCALE:GREGORIAN
METHOD:PUBLISH
X-ORIGINAL-URL:https://thevillagehamburg.de
X-WR-CALDESC:Veranstaltungen für The Village
REFRESH-INTERVAL;VALUE=DURATION:PT1H
X-Robots-Tag:noindex
X-PUBLISHED-TTL:PT1H
BEGIN:VTIMEZONE
TZID:Europe/Berlin
BEGIN:DAYLIGHT
TZOFFSETFROM:+0100
TZOFFSETTO:+0200
TZNAME:CEST
DTSTART:20220327T010000
END:DAYLIGHT
BEGIN:STANDARD
TZOFFSETFROM:+0200
TZOFFSETTO:+0100
TZNAME:CET
DTSTART:20221030T010000
END:STANDARD
BEGIN:DAYLIGHT
TZOFFSETFROM:+0100
TZOFFSETTO:+0200
TZNAME:CEST
DTSTART:20230326T010000
END:DAYLIGHT
BEGIN:STANDARD
TZOFFSETFROM:+0200
TZOFFSETTO:+0100
TZNAME:CET
DTSTART:20231029T010000
END:STANDARD
BEGIN:DAYLIGHT
TZOFFSETFROM:+0100
TZOFFSETTO:+0200
TZNAME:CEST
DTSTART:20240331T010000
END:DAYLIGHT
BEGIN:STANDARD
TZOFFSETFROM:+0200
TZOFFSETTO:+0100
TZNAME:CET
DTSTART:20241027T010000
END:STANDARD
END:VTIMEZONE
BEGIN:VEVENT
DTSTART;VALUE=DATE:20230917
DTEND;VALUE=DATE:20230919
DTSTAMP:20260423T030038
CREATED:20230107T144006Z
LAST-MODIFIED:20231203T172654Z
UID:10001724-1694919600-1695005999@thevillagehamburg.de
SUMMARY:Ruhetag
DESCRIPTION:…auch das Village braucht mal eine Pause\, und an diesem Termin haben wir geschlossen.\nWir heißen dich gerne und herzlich zum nächsten offenen Termin willkommen!\nFalls du gerne selber mal eine Feier im Village ausrichten willst: Hier https://thevillagehamburg.de/dein-event/ findest du alle Infos – schreib oder sprich uns gerne an\, wir freuen uns auf deine Ideen! \nBild <a href=“http://www.freepik.com“>Designed by Freepik</a>
URL:https://thevillagehamburg.de/event/ruhetag/2023-09-17/
LOCATION:The Village\, Tibarg 21\, Hamburg\, 22459\, Germany
ATTACH;FMTTYPE=image/jpeg:https://thevillagehamburg.de/wp-content/uploads/2023/01/sorry_closed.jpg
ORGANIZER;CN="The Village":MAILTO:info@thevillagehamburg.de
END:VEVENT
BEGIN:VEVENT
DTSTART;VALUE=DATE:20230918
DTEND;VALUE=DATE:20230920
DTSTAMP:20260423T030038
CREATED:20231203T172509Z
LAST-MODIFIED:20231203T173458Z
UID:10001832-1695006000-1695092399@thevillagehamburg.de
SUMMARY:Ruhetag
DESCRIPTION:…auch das Village braucht mal eine Pause\, und an diesem Termin haben wir geschlossen.\nWir heißen dich gerne und herzlich zum nächsten offenen Termin willkommen!\nFalls du gerne selber mal eine Feier im Village ausrichten willst: Hier https://thevillagehamburg.de/dein-event/ findest du alle Infos – schreib oder sprich uns gerne an\, wir freuen uns auf deine Ideen! \nBild <a href=“http://www.freepik.com“>Designed by Freepik</a>
URL:https://thevillagehamburg.de/event/ruhetag-2/2023-09-18/
LOCATION:The Village\, Tibarg 21\, Hamburg\, 22459\, Germany
ATTACH;FMTTYPE=image/jpeg:https://thevillagehamburg.de/wp-content/uploads/2023/01/sorry_closed.jpg
ORGANIZER;CN="The Village":MAILTO:info@thevillagehamburg.de
END:VEVENT
BEGIN:VEVENT
DTSTART;VALUE=DATE:20230919
DTEND;VALUE=DATE:20230921
DTSTAMP:20260423T030038
CREATED:20200908T173824Z
LAST-MODIFIED:20231203T165900Z
UID:10001567-1695092400-1695178799@thevillagehamburg.de
SUMMARY:Kunstworkshop für Kinder und Jugendliche | The Village
DESCRIPTION:Dienstags 15.00 Uhr bis 17.00 Uhr findet unser offener Kunstworkshop für Kinder und Jugendliche statt. In dieser Zeit gehört die Galerie den Kindern und Jugendlichen. Es gibt ein festes Thema das wir wöchentlich bearbeiten. \nSchwierigkeitsniveau: für alle ErfahrungslevelsMaterialien: Malmaterialien vorhanden
URL:https://thevillagehamburg.de/event/2423/2023-09-19/
LOCATION:The Village\, Tibarg 21\, Hamburg\, 22459\, Germany
CATEGORIES:Art
ATTACH;FMTTYPE=image/jpeg:https://thevillagehamburg.de/wp-content/uploads/2022/12/Kunstworkshops-fur-Kinder-Dienstags-.jpg
END:VEVENT
BEGIN:VEVENT
DTSTART;TZID=Europe/Berlin:20230919T093000
DTEND;TZID=Europe/Berlin:20230919T113000
DTSTAMP:20260423T030038
CREATED:20221216T222318Z
LAST-MODIFIED:20231203T174333Z
UID:10000922-1695115800-1695123000@thevillagehamburg.de
SUMMARY:Kunstkurs für Frauen
DESCRIPTION:
URL:https://thevillagehamburg.de/event/kunstkurs-fur-frauen/2023-09-19/
LOCATION:The Village\, Tibarg 21\, Hamburg\, 22459\, Germany
CATEGORIES:Art,International,Kultur
ATTACH;FMTTYPE=image/jpeg:https://thevillagehamburg.de/wp-content/uploads/2022/12/Kunstkurs-fur-Frauen-.jpg
ORGANIZER;CN="The Village":MAILTO:info@thevillagehamburg.de
END:VEVENT
BEGIN:VEVENT
DTSTART;TZID=Europe/Berlin:20230919T113000
DTEND;TZID=Europe/Berlin:20230919T133000
DTSTAMP:20260423T030038
CREATED:20221216T222608Z
LAST-MODIFIED:20231203T165643Z
UID:10000973-1695123000-1695130200@thevillagehamburg.de
SUMMARY:Kunstkurs für Frauen
DESCRIPTION:
URL:https://thevillagehamburg.de/event/kunstkurs-fur-frauen-2/2023-09-19/
LOCATION:The Village\, Tibarg 21\, Hamburg\, 22459\, Germany
CATEGORIES:Art,Kultur
ATTACH;FMTTYPE=image/jpeg:https://thevillagehamburg.de/wp-content/uploads/2022/12/Kunstkurs-fur-Frauen-Teil-2-.jpg
ORGANIZER;CN="The Village":MAILTO:info@thevillagehamburg.de
END:VEVENT
BEGIN:VEVENT
DTSTART;TZID=Europe/Berlin:20230919T173000
DTEND;TZID=Europe/Berlin:20230919T193000
DTSTAMP:20260423T030038
CREATED:20221216T222755Z
LAST-MODIFIED:20231203T170018Z
UID:10001024-1695144600-1695151800@thevillagehamburg.de
SUMMARY:Kunstkurs für Erwachsene
DESCRIPTION:
URL:https://thevillagehamburg.de/event/kunstkurs-fur-erwachsene/2023-09-19/
LOCATION:The Village\, Tibarg 21\, Hamburg\, 22459\, Germany
CATEGORIES:Art
ATTACH;FMTTYPE=image/jpeg:https://thevillagehamburg.de/wp-content/uploads/2022/12/Kunstkurs-fur-junge-Erwachsene-1.jpg
ORGANIZER;CN="The Village":MAILTO:info@thevillagehamburg.de
END:VEVENT
BEGIN:VEVENT
DTSTART;TZID=Europe/Berlin:20230920T160000
DTEND;TZID=Europe/Berlin:20230920T180000
DTSTAMP:20260423T030038
CREATED:20200908T212349Z
LAST-MODIFIED:20231203T174034Z
UID:10000768-1695225600-1695232800@thevillagehamburg.de
SUMMARY:Kunstworkshop für Kinder und Jugendliche | The Village
DESCRIPTION:Mittwochs von 16.00 Uhr bis 18.00 Uhr ist im Village Kunstworkshop für Kinder und Jugendliche angesagt. In dieser Zeit gehört die Galerie den Kindern und Jugendlichen. Es gibt ein festes Thema das wir wöchentlich bearbeiten. \nSchwierigkeitsniveau: für alle ErfahrungslevelsMaterialien: Malmaterialien vorhanden
URL:https://thevillagehamburg.de/event/kunstworkshop-fur-kinder-und-jugendliche-the-village/2023-09-20/
LOCATION:The Village\, Tibarg 21\, Hamburg\, 22459\, Germany
CATEGORIES:Art
ATTACH;FMTTYPE=image/jpeg:https://thevillagehamburg.de/wp-content/uploads/2022/12/Kunstworkshops-fur-Kinder-Mittwochs-.jpg
END:VEVENT
BEGIN:VEVENT
DTSTART;VALUE=DATE:20230924
DTEND;VALUE=DATE:20230926
DTSTAMP:20260423T030038
CREATED:20230107T144006Z
LAST-MODIFIED:20231203T172654Z
UID:10001725-1695524400-1695610799@thevillagehamburg.de
SUMMARY:Ruhetag
DESCRIPTION:…auch das Village braucht mal eine Pause\, und an diesem Termin haben wir geschlossen.\nWir heißen dich gerne und herzlich zum nächsten offenen Termin willkommen!\nFalls du gerne selber mal eine Feier im Village ausrichten willst: Hier https://thevillagehamburg.de/dein-event/ findest du alle Infos – schreib oder sprich uns gerne an\, wir freuen uns auf deine Ideen! \nBild <a href=“http://www.freepik.com“>Designed by Freepik</a>
URL:https://thevillagehamburg.de/event/ruhetag/2023-09-24/
LOCATION:The Village\, Tibarg 21\, Hamburg\, 22459\, Germany
ATTACH;FMTTYPE=image/jpeg:https://thevillagehamburg.de/wp-content/uploads/2023/01/sorry_closed.jpg
ORGANIZER;CN="The Village":MAILTO:info@thevillagehamburg.de
END:VEVENT
END:VCALENDAR