BEGIN:VCALENDAR
VERSION:2.0
PRODID:-//The Village - ECPv6.15.15//NONSGML v1.0//EN
CALSCALE:GREGORIAN
METHOD:PUBLISH
X-ORIGINAL-URL:https://thevillagehamburg.de
X-WR-CALDESC:Veranstaltungen für The Village
REFRESH-INTERVAL;VALUE=DURATION:PT1H
X-Robots-Tag:noindex
X-PUBLISHED-TTL:PT1H
BEGIN:VTIMEZONE
TZID:Europe/Berlin
BEGIN:DAYLIGHT
TZOFFSETFROM:+0100
TZOFFSETTO:+0200
TZNAME:CEST
DTSTART:20230326T010000
END:DAYLIGHT
BEGIN:STANDARD
TZOFFSETFROM:+0200
TZOFFSETTO:+0100
TZNAME:CET
DTSTART:20231029T010000
END:STANDARD
BEGIN:DAYLIGHT
TZOFFSETFROM:+0100
TZOFFSETTO:+0200
TZNAME:CEST
DTSTART:20240331T010000
END:DAYLIGHT
BEGIN:STANDARD
TZOFFSETFROM:+0200
TZOFFSETTO:+0100
TZNAME:CET
DTSTART:20241027T010000
END:STANDARD
BEGIN:DAYLIGHT
TZOFFSETFROM:+0100
TZOFFSETTO:+0200
TZNAME:CEST
DTSTART:20250330T010000
END:DAYLIGHT
BEGIN:STANDARD
TZOFFSETFROM:+0200
TZOFFSETTO:+0100
TZNAME:CET
DTSTART:20251026T010000
END:STANDARD
END:VTIMEZONE
BEGIN:VEVENT
DTSTART;VALUE=DATE:20240804
DTEND;VALUE=DATE:20240806
DTSTAMP:20260419T221319
CREATED:20230107T144006Z
LAST-MODIFIED:20231203T172654Z
UID:10001768-1722740400-1722826799@thevillagehamburg.de
SUMMARY:Ruhetag
DESCRIPTION:…auch das Village braucht mal eine Pause\, und an diesem Termin haben wir geschlossen.\nWir heißen dich gerne und herzlich zum nächsten offenen Termin willkommen!\nFalls du gerne selber mal eine Feier im Village ausrichten willst: Hier https://thevillagehamburg.de/dein-event/ findest du alle Infos – schreib oder sprich uns gerne an\, wir freuen uns auf deine Ideen! \nBild <a href=“http://www.freepik.com“>Designed by Freepik</a>
URL:https://thevillagehamburg.de/event/ruhetag/2024-08-04/
LOCATION:The Village\, Tibarg 21\, Hamburg\, 22459\, Germany
ATTACH;FMTTYPE=image/jpeg:https://thevillagehamburg.de/wp-content/uploads/2023/01/sorry_closed.jpg
ORGANIZER;CN="The Village":MAILTO:info@thevillagehamburg.de
END:VEVENT
BEGIN:VEVENT
DTSTART;VALUE=DATE:20240805
DTEND;VALUE=DATE:20240807
DTSTAMP:20260419T221319
CREATED:20231203T172509Z
LAST-MODIFIED:20231203T173458Z
UID:10001877-1722826800-1722913199@thevillagehamburg.de
SUMMARY:Ruhetag
DESCRIPTION:…auch das Village braucht mal eine Pause\, und an diesem Termin haben wir geschlossen.\nWir heißen dich gerne und herzlich zum nächsten offenen Termin willkommen!\nFalls du gerne selber mal eine Feier im Village ausrichten willst: Hier https://thevillagehamburg.de/dein-event/ findest du alle Infos – schreib oder sprich uns gerne an\, wir freuen uns auf deine Ideen! \nBild <a href=“http://www.freepik.com“>Designed by Freepik</a>
URL:https://thevillagehamburg.de/event/ruhetag-2/2024-08-05/
LOCATION:The Village\, Tibarg 21\, Hamburg\, 22459\, Germany
ATTACH;FMTTYPE=image/jpeg:https://thevillagehamburg.de/wp-content/uploads/2023/01/sorry_closed.jpg
ORGANIZER;CN="The Village":MAILTO:info@thevillagehamburg.de
END:VEVENT
BEGIN:VEVENT
DTSTART;VALUE=DATE:20240806
DTEND;VALUE=DATE:20240808
DTSTAMP:20260419T221319
CREATED:20200908T173824Z
LAST-MODIFIED:20231203T165900Z
UID:10001611-1722913200-1722999599@thevillagehamburg.de
SUMMARY:Kunstworkshop für Kinder und Jugendliche | The Village
DESCRIPTION:Dienstags 15.00 Uhr bis 17.00 Uhr findet unser offener Kunstworkshop für Kinder und Jugendliche statt. In dieser Zeit gehört die Galerie den Kindern und Jugendlichen. Es gibt ein festes Thema das wir wöchentlich bearbeiten. \nSchwierigkeitsniveau: für alle ErfahrungslevelsMaterialien: Malmaterialien vorhanden
URL:https://thevillagehamburg.de/event/2423/2024-08-06/
LOCATION:The Village\, Tibarg 21\, Hamburg\, 22459\, Germany
CATEGORIES:Art
ATTACH;FMTTYPE=image/jpeg:https://thevillagehamburg.de/wp-content/uploads/2022/12/Kunstworkshops-fur-Kinder-Dienstags-.jpg
END:VEVENT
BEGIN:VEVENT
DTSTART;TZID=Europe/Berlin:20240806T093000
DTEND;TZID=Europe/Berlin:20240806T113000
DTSTAMP:20260419T221319
CREATED:20221216T222318Z
LAST-MODIFIED:20231203T174333Z
UID:10001457-1722936600-1722943800@thevillagehamburg.de
SUMMARY:Kunstkurs für Frauen
DESCRIPTION:
URL:https://thevillagehamburg.de/event/kunstkurs-fur-frauen/2024-08-06/
LOCATION:The Village\, Tibarg 21\, Hamburg\, 22459\, Germany
CATEGORIES:Art,International,Kultur
ATTACH;FMTTYPE=image/jpeg:https://thevillagehamburg.de/wp-content/uploads/2022/12/Kunstkurs-fur-Frauen-.jpg
ORGANIZER;CN="The Village":MAILTO:info@thevillagehamburg.de
END:VEVENT
BEGIN:VEVENT
DTSTART;TZID=Europe/Berlin:20240806T113000
DTEND;TZID=Europe/Berlin:20240806T133000
DTSTAMP:20260419T221319
CREATED:20221216T222608Z
LAST-MODIFIED:20231203T165643Z
UID:10001509-1722943800-1722951000@thevillagehamburg.de
SUMMARY:Kunstkurs für Frauen
DESCRIPTION:
URL:https://thevillagehamburg.de/event/kunstkurs-fur-frauen-2/2024-08-06/
LOCATION:The Village\, Tibarg 21\, Hamburg\, 22459\, Germany
CATEGORIES:Art,Kultur
ATTACH;FMTTYPE=image/jpeg:https://thevillagehamburg.de/wp-content/uploads/2022/12/Kunstkurs-fur-Frauen-Teil-2-.jpg
ORGANIZER;CN="The Village":MAILTO:info@thevillagehamburg.de
END:VEVENT
BEGIN:VEVENT
DTSTART;TZID=Europe/Berlin:20240806T173000
DTEND;TZID=Europe/Berlin:20240806T193000
DTSTAMP:20260419T221319
CREATED:20221216T222755Z
LAST-MODIFIED:20231203T170018Z
UID:10001664-1722965400-1722972600@thevillagehamburg.de
SUMMARY:Kunstkurs für Erwachsene
DESCRIPTION:
URL:https://thevillagehamburg.de/event/kunstkurs-fur-erwachsene/2024-08-06/
LOCATION:The Village\, Tibarg 21\, Hamburg\, 22459\, Germany
CATEGORIES:Art
ATTACH;FMTTYPE=image/jpeg:https://thevillagehamburg.de/wp-content/uploads/2022/12/Kunstkurs-fur-junge-Erwachsene-1.jpg
ORGANIZER;CN="The Village":MAILTO:info@thevillagehamburg.de
END:VEVENT
BEGIN:VEVENT
DTSTART;TZID=Europe/Berlin:20240807T160000
DTEND;TZID=Europe/Berlin:20240807T180000
DTSTAMP:20260419T221319
CREATED:20200908T212349Z
LAST-MODIFIED:20231203T174034Z
UID:10001404-1723046400-1723053600@thevillagehamburg.de
SUMMARY:Kunstworkshop für Kinder und Jugendliche | The Village
DESCRIPTION:Mittwochs von 16.00 Uhr bis 18.00 Uhr ist im Village Kunstworkshop für Kinder und Jugendliche angesagt. In dieser Zeit gehört die Galerie den Kindern und Jugendlichen. Es gibt ein festes Thema das wir wöchentlich bearbeiten. \nSchwierigkeitsniveau: für alle ErfahrungslevelsMaterialien: Malmaterialien vorhanden
URL:https://thevillagehamburg.de/event/kunstworkshop-fur-kinder-und-jugendliche-the-village/2024-08-07/
LOCATION:The Village\, Tibarg 21\, Hamburg\, 22459\, Germany
CATEGORIES:Art
ATTACH;FMTTYPE=image/jpeg:https://thevillagehamburg.de/wp-content/uploads/2022/12/Kunstworkshops-fur-Kinder-Mittwochs-.jpg
END:VEVENT
BEGIN:VEVENT
DTSTART;TZID=Europe/Berlin:20240807T190000
DTEND;TZID=Europe/Berlin:20240807T210000
DTSTAMP:20260419T221319
CREATED:20231204T202936Z
LAST-MODIFIED:20231204T202941Z
UID:10001971-1723057200-1723064400@thevillagehamburg.de
SUMMARY:Offener Malabend
DESCRIPTION:Malen nach eigenen Vorstellungen und Wünschen in Gesellschafft und mit fachkundiger Begleitung. Vorhandene  Acrylfarben und Pinsel aus der Galerie können verwendet werden. Weitere Materialien bitte mitbringen. Eine Auswahl kleinerer Leinwände halten wir für euch vor Ort zum Kauf bereit. (Wünsche bitte gerne vorher absprechen.)
URL:https://thevillagehamburg.de/event/offener-malabend-2-2/2024-08-07/
LOCATION:The Village\, Tibarg 21\, Hamburg\, 22459\, Germany
CATEGORIES:Art,Kultur
ATTACH;FMTTYPE=image/png:https://thevillagehamburg.de/wp-content/uploads/2022/01/Offener.png
ORGANIZER;CN="The Village":MAILTO:info@thevillagehamburg.de
END:VEVENT
BEGIN:VEVENT
DTSTART;TZID=Europe/Berlin:20240809T203000
DTEND;TZID=Europe/Berlin:20240809T223000
DTSTAMP:20260419T221319
CREATED:20231204T121404Z
LAST-MODIFIED:20231204T200911Z
UID:10001920-1723235400-1723242600@thevillagehamburg.de
SUMMARY:120 Minuten Party
DESCRIPTION:
URL:https://thevillagehamburg.de/event/120-minuten-party-3/2024-08-09/
LOCATION:The Village\, Tibarg 21\, Hamburg\, 22459\, Germany
CATEGORIES:DJ,International,Musik
ATTACH;FMTTYPE=image/jpeg:https://thevillagehamburg.de/wp-content/uploads/2022/12/120-Minuten-Party.jpg
ORGANIZER;CN="The Village":MAILTO:info@thevillagehamburg.de
END:VEVENT
BEGIN:VEVENT
DTSTART;TZID=Europe/Berlin:20240810T150000
DTEND;TZID=Europe/Berlin:20240810T233000
DTSTAMP:20260419T221319
CREATED:20240805T172531Z
LAST-MODIFIED:20240805T172540Z
UID:10002156-1723302000-1723332600@thevillagehamburg.de
SUMMARY:Geschlossene Gesellschaft
DESCRIPTION:
URL:https://thevillagehamburg.de/event/geschlossene-gesellschaft-13/
LOCATION:The Village\, Tibarg 21\, Hamburg\, 22459\, Germany
CATEGORIES:Gastronomie,Geschlossene Gesellschaft
ATTACH;FMTTYPE=image/jpeg:https://thevillagehamburg.de/wp-content/uploads/2024/07/Second-Chances-Ladys-Flohmarkt-Instagram-Beitrag-210-x-210-mm.jpg
ORGANIZER;CN="The Village":MAILTO:info@thevillagehamburg.de
END:VEVENT
BEGIN:VEVENT
DTSTART;VALUE=DATE:20240811
DTEND;VALUE=DATE:20240813
DTSTAMP:20260419T221319
CREATED:20230107T144006Z
LAST-MODIFIED:20231203T172654Z
UID:10001769-1723345200-1723431599@thevillagehamburg.de
SUMMARY:Ruhetag
DESCRIPTION:…auch das Village braucht mal eine Pause\, und an diesem Termin haben wir geschlossen.\nWir heißen dich gerne und herzlich zum nächsten offenen Termin willkommen!\nFalls du gerne selber mal eine Feier im Village ausrichten willst: Hier https://thevillagehamburg.de/dein-event/ findest du alle Infos – schreib oder sprich uns gerne an\, wir freuen uns auf deine Ideen! \nBild <a href=“http://www.freepik.com“>Designed by Freepik</a>
URL:https://thevillagehamburg.de/event/ruhetag/2024-08-11/
LOCATION:The Village\, Tibarg 21\, Hamburg\, 22459\, Germany
ATTACH;FMTTYPE=image/jpeg:https://thevillagehamburg.de/wp-content/uploads/2023/01/sorry_closed.jpg
ORGANIZER;CN="The Village":MAILTO:info@thevillagehamburg.de
END:VEVENT
END:VCALENDAR