BEGIN:VCALENDAR
VERSION:2.0
PRODID:-//The Village - ECPv6.15.20//NONSGML v1.0//EN
CALSCALE:GREGORIAN
METHOD:PUBLISH
X-WR-CALNAME:The Village
X-ORIGINAL-URL:https://thevillagehamburg.de
X-WR-CALDESC:Veranstaltungen für The Village
REFRESH-INTERVAL;VALUE=DURATION:PT1H
X-Robots-Tag:noindex
X-PUBLISHED-TTL:PT1H
BEGIN:VTIMEZONE
TZID:Europe/Berlin
BEGIN:DAYLIGHT
TZOFFSETFROM:+0100
TZOFFSETTO:+0200
TZNAME:CEST
DTSTART:20250330T010000
END:DAYLIGHT
BEGIN:STANDARD
TZOFFSETFROM:+0200
TZOFFSETTO:+0100
TZNAME:CET
DTSTART:20251026T010000
END:STANDARD
BEGIN:DAYLIGHT
TZOFFSETFROM:+0100
TZOFFSETTO:+0200
TZNAME:CEST
DTSTART:20260329T010000
END:DAYLIGHT
BEGIN:STANDARD
TZOFFSETFROM:+0200
TZOFFSETTO:+0100
TZNAME:CET
DTSTART:20261025T010000
END:STANDARD
BEGIN:DAYLIGHT
TZOFFSETFROM:+0100
TZOFFSETTO:+0200
TZNAME:CEST
DTSTART:20270328T010000
END:DAYLIGHT
BEGIN:STANDARD
TZOFFSETFROM:+0200
TZOFFSETTO:+0100
TZNAME:CET
DTSTART:20271031T010000
END:STANDARD
END:VTIMEZONE
BEGIN:VEVENT
DTSTART;TZID=Europe/Berlin:20260331T190000
DTEND;TZID=Europe/Berlin:20260331T210000
DTSTAMP:20260424T004107
CREATED:20260210T123743Z
LAST-MODIFIED:20260210T124100Z
UID:10003376-1774983600-1774990800@thevillagehamburg.de
SUMMARY:Krimilesung
DESCRIPTION:Christi Beck liest aus \n„Die fünf Gebote des Konstantin K.“ \nAm Isebekkanal wird die Leiche von Konstantin K. gefunden. Der hatte einen Fahrradladen in Eimsbüttel – und es faustdick hinter den Ohren. \nDie Kommissare Lydia von Livonius und der wortkarge Bodo Beckmann ermitteln. \nDie Autorin liest aus ihrer Krimikomödie und ihr dürft alle dabei sein. \nWir freuen uns auf einen gemütlichen Abend bei Wein & Wort.
URL:https://thevillagehamburg.de/event/krimilesung/
LOCATION:The Village\, Tibarg 21\, Hamburg\, 22459\, Germany
CATEGORIES:Vorlesung
ATTACH;FMTTYPE=image/jpeg:https://thevillagehamburg.de/wp-content/uploads/2026/02/Second-Chances-Ladys-Flohmarkt-Instagram-Beitrag-29.7-x-42-cm-5-x-5-cm1.jpg
ORGANIZER;CN="The Village":MAILTO:info@thevillagehamburg.de
END:VEVENT
BEGIN:VEVENT
DTSTART;TZID=Europe/Berlin:20260401T190000
DTEND;TZID=Europe/Berlin:20260401T210000
DTSTAMP:20260424T004107
CREATED:20260106T150747Z
LAST-MODIFIED:20260407T144002Z
UID:10002435-1775070000-1775077200@thevillagehamburg.de
SUMMARY:Offener Malabend
DESCRIPTION:Pinsel in die Hand und los geht’s. Gemeinsam malen und dabei den Alltag hinter sich lassen. Wir bereiten für euch jeden Monat neue Anregungen vor aber auch eigene Ideen dürfen hier gerne umgesetzt werden. In netter Gesellschaft entstehen mit fachkundiger Unterstützung eure ganz eigenen Kunstwerke. \nJeden 1 Mittwoch im Monat ab 19.00 Uhr für ca 2 Stunden \, 20 Euro Acrylfarben und Pinsel sind vorhanden\, andere Materialien bitte selber mitbringen. Leinwände könnne vor Ort gekauft werden. Geeignet sowohl für Anfänger als auch für erfahrene Künstler*innen. \nIhr könnt euch gerne anmelden unter brittaseipt@web.de oder info@susann-behnken.de \n  \nWir freuen uns auf euch.
URL:https://thevillagehamburg.de/event/offener-malabend-5-2-2/2026-04-01/
LOCATION:The Village\, Tibarg 21\, Hamburg\, 22459\, Germany
CATEGORIES:Art,Games,Geschlossene Gesellschaft,International,Kultur
ATTACH;FMTTYPE=image/jpeg:https://thevillagehamburg.de/wp-content/uploads/2026/01/Kaese-Tasting5.jpg
ORGANIZER;CN="The Village":MAILTO:info@thevillagehamburg.de
END:VEVENT
BEGIN:VEVENT
DTSTART;TZID=Europe/Berlin:20260402T193000
DTEND;TZID=Europe/Berlin:20260402T220000
DTSTAMP:20260424T004107
CREATED:20251217T152121Z
LAST-MODIFIED:20251217T162540Z
UID:10002279-1775158200-1775167200@thevillagehamburg.de
SUMMARY:Bingo Night
DESCRIPTION:Wer bei Bingo an gesetzte Seniorenabende denkt\, der sollte der Village Bingo Night lieber fern bleiben\, denn hier wird es wild\, bunt und verspielt. Bei Musik\, verkleideten Moderator*innen und im Laufe des Abends auch mehr und mehr verkleideten Besucher*innen artet der Abend oft ein bisschen aus. Vorbeilaufende Menschen sind sich unsicher\, ob drinnen eine Karnevals- oder eine Titti Twister Veranstaltung stattfindet\, oder sich zufällig einfach ein Haufen sinnfrei gut gelaunter Menschen gefunden haben. Es wird Bingo gespielt\, es gibt verschiedenen Musik Einspieler bei denen die Besucher auf die Stühle klettern müssen\, die Bar erobern oder ihre Zettel tauschen. Die legendäre Trash Bingo Runde ist neben der Flatrate an der Cocktailbar und den vielen tollen Bad Taste Geschenken definitiv eins der abendlichen Highlights.
URL:https://thevillagehamburg.de/event/bingo-night-2/2026-04-02/
LOCATION:The Village\, Tibarg 21\, Hamburg\, 22459\, Germany
CATEGORIES:Geschlossene Gesellschaft,Kultur,Quiz,Regelmäßige Treffen
ATTACH;FMTTYPE=image/jpeg:https://thevillagehamburg.de/wp-content/uploads/2023/12/Bingo.jpg
ORGANIZER;CN="The Village":MAILTO:info@thevillagehamburg.de
END:VEVENT
BEGIN:VEVENT
DTSTART;TZID=Europe/Berlin:20260403T080000
DTEND;TZID=Europe/Berlin:20260403T233000
DTSTAMP:20260424T004107
CREATED:20260225T130914Z
LAST-MODIFIED:20260225T130923Z
UID:10003384-1775203200-1775259000@thevillagehamburg.de
SUMMARY:Geschlossen
DESCRIPTION:Heute machen wir Pause . \n  \n  \n 
URL:https://thevillagehamburg.de/event/geschlossen-2/
LOCATION:The Village\, Tibarg 21\, Hamburg\, 22459\, Germany
ATTACH;FMTTYPE=image/jpeg:https://thevillagehamburg.de/wp-content/uploads/2025/05/the.jpg
ORGANIZER;CN="The Village":MAILTO:info@thevillagehamburg.de
END:VEVENT
BEGIN:VEVENT
DTSTART;TZID=Europe/Berlin:20260404T110000
DTEND;TZID=Europe/Berlin:20260404T140000
DTSTAMP:20260424T004107
CREATED:20250506T114448Z
LAST-MODIFIED:20251208T115627Z
UID:10002639-1775300400-1775311200@thevillagehamburg.de
SUMMARY:Brunch
DESCRIPTION:Jeden Samstag gibt es nun Brunch bei uns. \n  \nGemischte Platten\, leckere geröstete Schnitten\, Overnight Oats\, und diverse süße und herzhafte Waffeln. \n  \nVon 11 bis 14.00 Uhr könnt ihr das Wochenende bei uns gemütlich mit einem Brunch starten.
URL:https://thevillagehamburg.de/event/brunch/2026-04-04/
LOCATION:The Village\, Tibarg 21\, Hamburg\, 22459\, Germany
CATEGORIES:Gastronomie
ATTACH;FMTTYPE=image/jpeg:https://thevillagehamburg.de/wp-content/uploads/2025/04/Brunch.jpg
ORGANIZER;CN="The Village":MAILTO:info@thevillagehamburg.de
END:VEVENT
BEGIN:VEVENT
DTSTART;TZID=Europe/Berlin:20260404T160000
DTEND;TZID=Europe/Berlin:20260404T200000
DTSTAMP:20260424T004107
CREATED:20260331T124334Z
LAST-MODIFIED:20260331T130100Z
UID:10003433-1775318400-1775332800@thevillagehamburg.de
SUMMARY:House Cake
DESCRIPTION:Wir wollen uns mit euch ein bisschen auf die Ostertage einstimmen. Es wird frischen Kuchen geben und chillige House Musik . \nDann können wir uns zusammen auf das Osterfeuer einstimmen und auf die Tage mit Familie und Ostereier und so. \n 
URL:https://thevillagehamburg.de/event/house-cake/
LOCATION:The Village\, Tibarg 21\, Hamburg\, 22459\, Germany
CATEGORIES:DJ
ATTACH;FMTTYPE=image/jpeg:https://thevillagehamburg.de/wp-content/uploads/2026/03/Kaese-Tasting2.jpg
ORGANIZER;CN="The Village":MAILTO:info@thevillagehamburg.de
END:VEVENT
END:VCALENDAR